BEGIN:VCALENDAR
VERSION:2.0
PRODID:-//Fédération Départementale des Foyers Ruraux du Vaucluse - ECPv6.2.9//NONSGML v1.0//EN
CALSCALE:GREGORIAN
METHOD:PUBLISH
X-ORIGINAL-URL:https://fdfr84.foyersruraux.org
X-WR-CALDESC:évènements pour Fédération Départementale des Foyers Ruraux du Vaucluse
REFRESH-INTERVAL;VALUE=DURATION:PT1H
X-Robots-Tag:noindex
X-PUBLISHED-TTL:PT1H
BEGIN:VTIMEZONE
TZID:Europe/Paris
BEGIN:DAYLIGHT
TZOFFSETFROM:+0100
TZOFFSETTO:+0200
TZNAME:CEST
DTSTART:20250330T010000
END:DAYLIGHT
BEGIN:STANDARD
TZOFFSETFROM:+0200
TZOFFSETTO:+0100
TZNAME:CET
DTSTART:20251026T010000
END:STANDARD
END:VTIMEZONE
BEGIN:VEVENT
DTSTART;TZID=Europe/Paris:20250125T170000
DTEND;TZID=Europe/Paris:20250125T233000
DTSTAMP:20260422T085623
CREATED:20250121T160151Z
LAST-MODIFIED:20250121T160211Z
UID:10000006-1737824400-1737847800@fdfr84.foyersruraux.org
SUMMARY:Super LOTO à Caderousse !
DESCRIPTION:Comme chaque année\, l’association Arcad et l’association des parents d’élèves Cartable et Farandole vous proposent un Super loto.\n\n\nAlors réservez votre soirée du samedi 25 janvier 2025 et venez tenter de gagner le gros lot : 400€ de bon d’achat Carrefour.\n\n\n1 partie enfants et 1 partie ados offertes avec comme lots : une Nintendo Switch et une carte cadeau multi-enseigne.\n\n\n\nBuvette et restauration sur place.\n\n\nOuverture des portes à 17h.
URL:https://fdfr84.foyersruraux.org/evenement/super-loto-a-caderousse/
CATEGORIES:Soirée
ATTACH;FMTTYPE=image/jpeg:https://fdfr84.foyersruraux.org/wp-content/uploads/sites/33/2025/01/472451430_9465240380175943_8029915314713856187_n.jpg
END:VEVENT
BEGIN:VEVENT
DTSTART;TZID=Europe/Paris:20250125T190000
DTEND;TZID=Europe/Paris:20250125T233000
DTSTAMP:20260422T085623
CREATED:20250121T160952Z
LAST-MODIFIED:20250121T160952Z
UID:10000007-1737831600-1737847800@fdfr84.foyersruraux.org
SUMMARY:Scène ouverte à Séguret !
DESCRIPTION:On se retrouve le samedi 25 janvier (19h-00h) avec les Agités du Local pour la scène ouverte hivernale!\n Venez jouer ou simplement écouter de la musique pour se réchauffer les cœurs. Bienvenue aux débutants comme aux confirmés\, pour partager vos textes\, vos douces mélodies\, les moins douces aussi.\nLa team des Agités vous prépare de quoi vous nourrir et les boissons du cru seront au rendez-vous !\n2€ l’adhésion.\nA très vite
URL:https://fdfr84.foyersruraux.org/evenement/scene-ouverte-a-seguret/
ATTACH;FMTTYPE=image/jpeg:https://fdfr84.foyersruraux.org/wp-content/uploads/sites/33/2025/01/473726852_2446397982383190_7071966017273024734_n.jpg
END:VEVENT
END:VCALENDAR