BEGIN:VCALENDAR
VERSION:2.0
PRODID:-//Fédération Départementale des Foyers Ruraux du Vaucluse - ECPv6.2.9//NONSGML v1.0//EN
CALSCALE:GREGORIAN
METHOD:PUBLISH
X-ORIGINAL-URL:https://fdfr84.foyersruraux.org
X-WR-CALDESC:évènements pour Fédération Départementale des Foyers Ruraux du Vaucluse
REFRESH-INTERVAL;VALUE=DURATION:PT1H
X-Robots-Tag:noindex
X-PUBLISHED-TTL:PT1H
BEGIN:VTIMEZONE
TZID:Europe/Paris
BEGIN:DAYLIGHT
TZOFFSETFROM:+0100
TZOFFSETTO:+0200
TZNAME:CEST
DTSTART:20250330T010000
END:DAYLIGHT
BEGIN:STANDARD
TZOFFSETFROM:+0200
TZOFFSETTO:+0100
TZNAME:CET
DTSTART:20251026T010000
END:STANDARD
END:VTIMEZONE
BEGIN:VEVENT
DTSTART;VALUE=DATE:20250126
DTEND;VALUE=DATE:20250127
DTSTAMP:20260422T085622
CREATED:20250121T142344Z
LAST-MODIFIED:20250121T142344Z
UID:10000003-1737849600-1737935999@fdfr84.foyersruraux.org
SUMMARY:Le Salon du Faire Soi-Même aux Taillades
DESCRIPTION:OBSERVER\,  CREER\, RECEVOIR\n\nLe Salon du Faire soi même est de retour avec le foyer rural Maxime Nouguier des Taillades.\n RDV le dimanche 26 janvier 2025\, de 9h30 à 18h\n\n\n\nVenez partager cette journée avec des passionnés/ées et profitez de tous les ateliers proposés\, il y en aura pour tous les âges.
URL:https://fdfr84.foyersruraux.org/evenement/le-salon-du-faire-soi-meme-aux-taillades/
ATTACH;FMTTYPE=image/jpeg:https://fdfr84.foyersruraux.org/wp-content/uploads/sites/33/2025/01/471382275_2619601321762040_2219684912267377012_n.jpg
END:VEVENT
END:VCALENDAR