BEGIN:VCALENDAR
VERSION:2.0
PRODID:-//Fédération Départementale des Foyers Ruraux du Vaucluse - ECPv6.2.9//NONSGML v1.0//EN
CALSCALE:GREGORIAN
METHOD:PUBLISH
X-WR-CALNAME:Fédération Départementale des Foyers Ruraux du Vaucluse
X-ORIGINAL-URL:https://fdfr84.foyersruraux.org
X-WR-CALDESC:évènements pour Fédération Départementale des Foyers Ruraux du Vaucluse
REFRESH-INTERVAL;VALUE=DURATION:PT1H
X-Robots-Tag:noindex
X-PUBLISHED-TTL:PT1H
BEGIN:VTIMEZONE
TZID:Europe/Paris
BEGIN:DAYLIGHT
TZOFFSETFROM:+0100
TZOFFSETTO:+0200
TZNAME:CEST
DTSTART:20250330T010000
END:DAYLIGHT
BEGIN:STANDARD
TZOFFSETFROM:+0200
TZOFFSETTO:+0100
TZNAME:CET
DTSTART:20251026T010000
END:STANDARD
END:VTIMEZONE
BEGIN:VEVENT
DTSTART;TZID=Europe/Paris:20250322T140000
DTEND;TZID=Europe/Paris:20250322T173000
DTSTAMP:20260422T053549
CREATED:20250312T103542Z
LAST-MODIFIED:20250312T103542Z
UID:10000014-1742652000-1742664600@fdfr84.foyersruraux.org
SUMMARY:🌍”La Fresque du climat” s’invite au foyer rural de Lacoste !🌏
DESCRIPTION: Lors de cet atelier d’intelligence collective\, les participants·es reconstituent les liens de cause à effet des changements climatiques\, et explorent ensuite les actions à entreprendre dans le cadre personnel et professionnel.\n\n\n\n RDV ce samedi 22 mars 2025 à 14h.\n\n A partir de 11ans.\n SUR INSCIPTION
URL:https://fdfr84.foyersruraux.org/evenement/%f0%9f%8c%8dla-fresque-du-climat-sinvite-au-foyer-rural-de-lacoste-%f0%9f%8c%8f/
ATTACH;FMTTYPE=image/jpeg:https://fdfr84.foyersruraux.org/wp-content/uploads/sites/33/2025/03/fresque-climat.jpg
END:VEVENT
BEGIN:VEVENT
DTSTART;TZID=Europe/Paris:20250322T200000
DTEND;TZID=Europe/Paris:20250322T233000
DTSTAMP:20260422T053549
CREATED:20250312T105346Z
LAST-MODIFIED:20250312T105346Z
UID:10000018-1742673600-1742686200@fdfr84.foyersruraux.org
SUMMARY:Les Parolivores avec le foyer rural Les Agités du Local
DESCRIPTION:Les Parolivores c’est bientôt! RDV le samedi 22 mars à partir de 20h\n\nLes mots seront à l’honneur\, poésie\, lecture\, sketch\, chanson…\nLa scène est à vous.\nPas besoin de s’inscrire.\nLe prix de l’entrée est au tirage au sort. 0-5€
URL:https://fdfr84.foyersruraux.org/evenement/les-parolivores-avec-le-foyer-rural-les-agites-du-local/
ATTACH;FMTTYPE=image/jpeg:https://fdfr84.foyersruraux.org/wp-content/uploads/sites/33/2025/03/parolivores.jpg
END:VEVENT
END:VCALENDAR