BEGIN:VCALENDAR
VERSION:2.0
PRODID:-//Fédération Départementale des Foyers Ruraux du Vaucluse - ECPv6.2.9//NONSGML v1.0//EN
CALSCALE:GREGORIAN
METHOD:PUBLISH
X-ORIGINAL-URL:https://fdfr84.foyersruraux.org
X-WR-CALDESC:évènements pour Fédération Départementale des Foyers Ruraux du Vaucluse
REFRESH-INTERVAL;VALUE=DURATION:PT1H
X-Robots-Tag:noindex
X-PUBLISHED-TTL:PT1H
BEGIN:VTIMEZONE
TZID:Europe/Paris
BEGIN:DAYLIGHT
TZOFFSETFROM:+0100
TZOFFSETTO:+0200
TZNAME:CEST
DTSTART:20250330T010000
END:DAYLIGHT
BEGIN:STANDARD
TZOFFSETFROM:+0200
TZOFFSETTO:+0100
TZNAME:CET
DTSTART:20251026T010000
END:STANDARD
END:VTIMEZONE
BEGIN:VEVENT
DTSTART;TZID=Europe/Paris:20250328T200000
DTEND;TZID=Europe/Paris:20250328T233000
DTSTAMP:20260422T053654
CREATED:20250317T140355Z
LAST-MODIFIED:20250317T140355Z
UID:10000025-1743192000-1743204600@fdfr84.foyersruraux.org
SUMMARY:Soirée Latino à Roussillon
DESCRIPTION:Envie de vous laisser porter par la musique latine ! \nRDV le vendredi 28 mars 2025\, avec le FR Bien Vivre à Roussillon en Provence pour une soirée “OTRA NOCHE” avec : \n\nà 20h une initiation tout public\nà 21h une soirée dansante salsa\, bachata\, kisomba etc …
URL:https://fdfr84.foyersruraux.org/evenement/soiree-latino-a-roussillon/
CATEGORIES:Soirée
ATTACH;FMTTYPE=image/jpeg:https://fdfr84.foyersruraux.org/wp-content/uploads/sites/33/2025/03/salsa-roussillon.jpg
END:VEVENT
END:VCALENDAR