BEGIN:VCALENDAR
VERSION:2.0
PRODID:-//Fédération Départementale des Foyers Ruraux du Vaucluse - ECPv6.2.9//NONSGML v1.0//EN
CALSCALE:GREGORIAN
METHOD:PUBLISH
X-WR-CALNAME:Fédération Départementale des Foyers Ruraux du Vaucluse
X-ORIGINAL-URL:https://fdfr84.foyersruraux.org
X-WR-CALDESC:évènements pour Fédération Départementale des Foyers Ruraux du Vaucluse
REFRESH-INTERVAL;VALUE=DURATION:PT1H
X-Robots-Tag:noindex
X-PUBLISHED-TTL:PT1H
BEGIN:VTIMEZONE
TZID:Europe/Paris
BEGIN:DAYLIGHT
TZOFFSETFROM:+0100
TZOFFSETTO:+0200
TZNAME:CEST
DTSTART:20250330T010000
END:DAYLIGHT
BEGIN:STANDARD
TZOFFSETFROM:+0200
TZOFFSETTO:+0100
TZNAME:CET
DTSTART:20251026T010000
END:STANDARD
END:VTIMEZONE
BEGIN:VEVENT
DTSTART;TZID=Europe/Paris:20250402T120000
DTEND;TZID=Europe/Paris:20250402T160000
DTSTAMP:20260422T034905
CREATED:20250317T140914Z
LAST-MODIFIED:20250317T141330Z
UID:10000026-1743595200-1743609600@fdfr84.foyersruraux.org
SUMMARY:Journée de l'engagement citoyen des jeunes à L'Isle sur la Sorgue
DESCRIPTION:Bonjour  à toutes et tous\,\n\n\n\n L’Info Jeunes municipal ( Pole Enfance Famille / service jeunesse et loisirs ) organise\n le Mercredi 2 Avril un après-midi sur “l’engagement des jeunes ” au jardin “La Guinguette” de l’hôpital local de 12h à 16h au quai Lices Berthelot à L’Isle sur la Sorgue.\n\n\n\n L’entrée est libre et le public touché souhaité sont les collégiens\, lycéens et jeunes adultes + de 18 ans .\n L’idée est de proposer\, présenter\, informer\, sensibiliser\, échanger autours de plusieurs dispositifs liés à : l’engagement\, le volontariat (dont le service civique … )\, le bénévolat et le milieu associatif\, les initiatives jeunes\, les actions citoyennes et intergénérationnelles\, la mobilité internationale\, l’entreprenariat\, les chantiers de bénévoles\, la réserve civique\, les formations dans l’animation\, les offres de recrutement dans le service jeunesse de la Ville.\n\n\n\n Plusieurs stands\, ateliers interactifs \, jeux seront donc proposés autour de ces thématiques animés par différents partenaires dont : le Club Jeunes\, l’Info Jeunes et le Service Jeunesse et Loisirs de L’Isle sur la Sorgue\, le SDJES 84\, la Ligue de l ‘Enseignement 84\, Airo\, Ufolep\, la Fédération des Foyers ruraux de Vaucluse\, Opus et Initiative Terres de Vaucluse .\n\n\n\nEn espérant vous y retrouver nombreux et nombreuses.
URL:https://fdfr84.foyersruraux.org/evenement/journee-de-lengagement-citoyen-des-jeunes/
CATEGORIES:Jeunesse
ATTACH;FMTTYPE=image/jpeg:https://fdfr84.foyersruraux.org/wp-content/uploads/sites/33/2025/03/Journee-de-lengagement-affiche-scaled.jpg
END:VEVENT
END:VCALENDAR