BEGIN:VCALENDAR
VERSION:2.0
PRODID:-//Fédération Départementale des Foyers Ruraux du Vaucluse - ECPv6.2.9//NONSGML v1.0//EN
CALSCALE:GREGORIAN
METHOD:PUBLISH
X-ORIGINAL-URL:https://fdfr84.foyersruraux.org
X-WR-CALDESC:évènements pour Fédération Départementale des Foyers Ruraux du Vaucluse
REFRESH-INTERVAL;VALUE=DURATION:PT1H
X-Robots-Tag:noindex
X-PUBLISHED-TTL:PT1H
BEGIN:VTIMEZONE
TZID:Europe/Paris
BEGIN:DAYLIGHT
TZOFFSETFROM:+0100
TZOFFSETTO:+0200
TZNAME:CEST
DTSTART:20250330T010000
END:DAYLIGHT
BEGIN:STANDARD
TZOFFSETFROM:+0200
TZOFFSETTO:+0100
TZNAME:CET
DTSTART:20251026T010000
END:STANDARD
END:VTIMEZONE
BEGIN:VEVENT
DTSTART;TZID=Europe/Paris:20250412T090000
DTEND;TZID=Europe/Paris:20250412T140000
DTSTAMP:20260422T035032
CREATED:20250312T104526Z
LAST-MODIFIED:20250312T104526Z
UID:10000016-1744448400-1744466400@fdfr84.foyersruraux.org
SUMMARY:Assemblée Générale Ordinaire de la FDFR84 – RDV le samedi 12 Avril 2025 à Lauris
DESCRIPTION:Bonjour à toutes et tous\, \n\n\n\n\n\n\nLe Conseil d’Administration de la Fédération des Foyers Ruraux de Vaucluse a le plaisir de vous inviter à son Assemblée Générale qui se tiendra le samedi 12 avril 2025. Cette rencontre annuelle est un temps fort de la vie de l’association. C’est l’occasion de découvrir les actions menées et de vous informer sur les projets à venir. \n\n\n\n\n\n\nNous vous donnons RDV à partir de 9h00\, au foyer rural de Lauris\, Rue de la mairie 84360 LAURIS.  \nLors de cette matinée\, nous aborderons les points suivants: \n\nPrésentation et approbation du bilan de l’année 2024\n– Rapport moral\n– Rapport d’activités\n– Rapport financier\nPrésentation et approbation des projets et du budget prévisionnel 2025\nÉlection du Conseil d’Administration (renouvellement au Tiers)\n\nL’Assemblée Générale sera ensuite suivie d’un buffet de l’amitié organisé par le foyer rural de Lauris.  \nPour tout renseignement\, n’hésitez pas à nous contacter au : 04 90 21 58 17 // 06 43 25 72 59 // fdfr.84@mouvement-rural.org \n\n\n\n\n\n\n\nAdhérents/tes\, bénévoles\, partenaires\, la FD84 compte sur votre présence.\nFédéralement vôtre.
URL:https://fdfr84.foyersruraux.org/evenement/assemblee-generale-ordinaire-de-la-fdfr84-rdv-le-samedi-12-avril-2025-a-lauris/
ATTACH;FMTTYPE=image/jpeg:https://fdfr84.foyersruraux.org/wp-content/uploads/sites/33/2025/03/ag-2.jpg
END:VEVENT
END:VCALENDAR