BEGIN:VCALENDAR
VERSION:2.0
PRODID:-//Fédération Départementale des Foyers Ruraux du Vaucluse - ECPv6.2.9//NONSGML v1.0//EN
CALSCALE:GREGORIAN
METHOD:PUBLISH
X-ORIGINAL-URL:https://fdfr84.foyersruraux.org
X-WR-CALDESC:évènements pour Fédération Départementale des Foyers Ruraux du Vaucluse
REFRESH-INTERVAL;VALUE=DURATION:PT1H
X-Robots-Tag:noindex
X-PUBLISHED-TTL:PT1H
BEGIN:VTIMEZONE
TZID:Europe/Paris
BEGIN:DAYLIGHT
TZOFFSETFROM:+0100
TZOFFSETTO:+0200
TZNAME:CEST
DTSTART:20250330T010000
END:DAYLIGHT
BEGIN:STANDARD
TZOFFSETFROM:+0200
TZOFFSETTO:+0100
TZNAME:CET
DTSTART:20251026T010000
END:STANDARD
END:VTIMEZONE
BEGIN:VEVENT
DTSTART;TZID=Europe/Paris:20250426T093000
DTEND;TZID=Europe/Paris:20250426T150000
DTSTAMP:20260422T035032
CREATED:20250407T112639Z
LAST-MODIFIED:20250407T112639Z
UID:10000029-1745659800-1745679600@fdfr84.foyersruraux.org
SUMMARY:Randonnée sur les sentiers de Mémoire
DESCRIPTION:Dans la continuité de la Conférence sur la Résistance au Pays d’Apt  qui a remporté un vif succès dans le village de Roussillon\, le foyer rural “Bien Vivre à Roussillon en Provence” organise une randonnée sur les sentiers de Mémoire ce 26 avril 2025\, accompagnée par des représentants de l’association   ” Les Cadets de la Résistance“\n\nN’hésitez pas à contacter l’association pour plus de renseignements : bienvivrearoussillon@gmail.com
URL:https://fdfr84.foyersruraux.org/evenement/randonnee-sur-les-sentiers-de-memoire/
ATTACH;FMTTYPE=image/jpeg:https://fdfr84.foyersruraux.org/wp-content/uploads/sites/33/2025/04/Affiche-Randonnee-Sentiers-de-Memoire-.-Gordes_page-0001-scaled.jpg
END:VEVENT
BEGIN:VEVENT
DTSTART;TZID=Europe/Paris:20250426T140000
DTEND;TZID=Europe/Paris:20250426T180000
DTSTAMP:20260422T035032
CREATED:20250312T110216Z
LAST-MODIFIED:20250324T110248Z
UID:10000019-1745676000-1745690400@fdfr84.foyersruraux.org
SUMMARY:Le Carnaval s'invite à Mormoiron
DESCRIPTION:Bientôt bientôt !!! On se prépare pour une fête inoubliable! \nLe foyer rural de Momoiron vous invite à son carnaval le 26 avril 2025 !\n\nVous défilerez à partir de 14h sur les notes festives de la compagnie “zinzin” sur le thème des contes\, en lien avec le programme maternelle des écoles de la commune et des 2 spectacles offerts par l’association juste avant Noël  ( « divers contes d’hiver » )\n\nL’APE\, cette année encore se joindra à l’évènement et préparera la confection du caramentran ( ils recherchent du matériel … grillage etc… ). Le comité des fêtes offrira le goûter\n\nVenez nombreux et nombreuses\, petits et grands !!!!
URL:https://fdfr84.foyersruraux.org/evenement/le-carnaval-sinvite-a-mormoiron/
ATTACH;FMTTYPE=image/jpeg:https://fdfr84.foyersruraux.org/wp-content/uploads/sites/33/2025/03/485696200_1249567977176840_7818788784278677071_n.jpg
END:VEVENT
END:VCALENDAR