BEGIN:VCALENDAR
VERSION:2.0
PRODID:-//Fédération Départementale des Foyers Ruraux du Vaucluse - ECPv6.2.9//NONSGML v1.0//EN
CALSCALE:GREGORIAN
METHOD:PUBLISH
X-WR-CALNAME:Fédération Départementale des Foyers Ruraux du Vaucluse
X-ORIGINAL-URL:https://fdfr84.foyersruraux.org
X-WR-CALDESC:évènements pour Fédération Départementale des Foyers Ruraux du Vaucluse
REFRESH-INTERVAL;VALUE=DURATION:PT1H
X-Robots-Tag:noindex
X-PUBLISHED-TTL:PT1H
BEGIN:VTIMEZONE
TZID:Europe/Paris
BEGIN:DAYLIGHT
TZOFFSETFROM:+0100
TZOFFSETTO:+0200
TZNAME:CEST
DTSTART:20250330T010000
END:DAYLIGHT
BEGIN:STANDARD
TZOFFSETFROM:+0200
TZOFFSETTO:+0100
TZNAME:CET
DTSTART:20251026T010000
END:STANDARD
END:VTIMEZONE
BEGIN:VEVENT
DTSTART;TZID=Europe/Paris:20250518T143000
DTEND;TZID=Europe/Paris:20250518T203000
DTSTAMP:20260422T021608
CREATED:20250514T141647Z
LAST-MODIFIED:20250514T141647Z
UID:10000031-1747578600-1747600200@fdfr84.foyersruraux.org
SUMMARY:LIS ESTUBASSIA de VIELO
DESCRIPTION:Du théâtre en provençal à Villes sur Auzon ! \nPlongez au cœur de la Provence à travers une journée exceptionnelle dédiée au théâtre en provençal ! Laissez-vous transporter par la magie des mots et des histoires qui célèbrent notre patrimoine culturel. Un rendez-vous incontournable pour les amoureux de la langue et des traditions ! \nEn partenariat avec L’ESCOLO DOU VENTOUR \nEntrée 5€ / gratuit pour les moins de 12ans / un apéritif sera offert par le foyer rural de Villes sur Auzon
URL:https://fdfr84.foyersruraux.org/evenement/lis-estubassia-de-vielo/
CATEGORIES:Théâtre
ATTACH;FMTTYPE=image/jpeg:https://fdfr84.foyersruraux.org/wp-content/uploads/sites/33/2025/05/496768969_2739067183148786_1214295300691903651_n.jpg
END:VEVENT
END:VCALENDAR