BEGIN:VCALENDAR
VERSION:2.0
PRODID:-//Fédération Départementale des Foyers Ruraux du Vaucluse - ECPv6.2.9//NONSGML v1.0//EN
CALSCALE:GREGORIAN
METHOD:PUBLISH
X-WR-CALNAME:Fédération Départementale des Foyers Ruraux du Vaucluse
X-ORIGINAL-URL:https://fdfr84.foyersruraux.org
X-WR-CALDESC:évènements pour Fédération Départementale des Foyers Ruraux du Vaucluse
REFRESH-INTERVAL;VALUE=DURATION:PT1H
X-Robots-Tag:noindex
X-PUBLISHED-TTL:PT1H
BEGIN:VTIMEZONE
TZID:Europe/Paris
BEGIN:DAYLIGHT
TZOFFSETFROM:+0100
TZOFFSETTO:+0200
TZNAME:CEST
DTSTART:20250330T010000
END:DAYLIGHT
BEGIN:STANDARD
TZOFFSETFROM:+0200
TZOFFSETTO:+0100
TZNAME:CET
DTSTART:20251026T010000
END:STANDARD
END:VTIMEZONE
BEGIN:VEVENT
DTSTART;TZID=Europe/Paris:20250526T183000
DTEND;TZID=Europe/Paris:20250528T203000
DTSTAMP:20260422T004951
CREATED:20250521T131946Z
LAST-MODIFIED:20250521T132231Z
UID:10000032-1748284200-1748464200@fdfr84.foyersruraux.org
SUMMARY:Créativité et passion : les artistes d’Artiel en vedette !
DESCRIPTION:Et les spectacles de la Cie d Artiel continuent durant tout le mois de mai!  \n\nLundi 26 mai\, les enfants et ados font leur show d’impros ! \nMardi 27\, ce sont les enfants qui présentent 2 pièces de théâtre \net mercredi 28\, les adultes clôturent la saison par une comédie. \n\nLe tout au Théâtre de Pertuis et c’est gratuit !
URL:https://fdfr84.foyersruraux.org/evenement/creativite-et-passion-les-artistes-dartiel-en-vedette/
CATEGORIES:Théâtre
ATTACH;FMTTYPE=image/jpeg:https://fdfr84.foyersruraux.org/wp-content/uploads/sites/33/2025/05/Cie-dartiel.jpg
END:VEVENT
END:VCALENDAR