BEGIN:VCALENDAR
VERSION:2.0
PRODID:-//Fédération Départementale des Foyers Ruraux du Vaucluse - ECPv6.2.9//NONSGML v1.0//EN
CALSCALE:GREGORIAN
METHOD:PUBLISH
X-WR-CALNAME:Fédération Départementale des Foyers Ruraux du Vaucluse
X-ORIGINAL-URL:https://fdfr84.foyersruraux.org
X-WR-CALDESC:évènements pour Fédération Départementale des Foyers Ruraux du Vaucluse
REFRESH-INTERVAL;VALUE=DURATION:PT1H
X-Robots-Tag:noindex
X-PUBLISHED-TTL:PT1H
BEGIN:VTIMEZONE
TZID:Europe/Paris
BEGIN:DAYLIGHT
TZOFFSETFROM:+0100
TZOFFSETTO:+0200
TZNAME:CEST
DTSTART:20250330T010000
END:DAYLIGHT
BEGIN:STANDARD
TZOFFSETFROM:+0200
TZOFFSETTO:+0100
TZNAME:CET
DTSTART:20251026T010000
END:STANDARD
END:VTIMEZONE
BEGIN:VEVENT
DTSTART;TZID=Europe/Paris:20250529T060000
DTEND;TZID=Europe/Paris:20250529T180000
DTSTAMP:20260422T004934
CREATED:20250521T161451Z
LAST-MODIFIED:20250521T162054Z
UID:10000037-1748498400-1748541600@fdfr84.foyersruraux.org
SUMMARY:🔎 À la chasse aux trouvailles : vide-grenier à ne pas manquer à Villes sur Auzon!
DESCRIPTION:Envie de dénicher des pépites\, de donner une seconde vie à vos objets ou tout simplement de partager un moment convivial ? Ne manquez pas le vide-grenier du foyer rural de Villes sur Auzon le jeudi 29 mai 2025 ! \n🔎 Chinez\, troquez\, trouvez : vêtements\, livres\, jouets\, déco… il y en aura pour tous les goûts ! ☕ Un moment chaleureux : venez flâner\, échanger et profiter de l’ambiance. \n🌞 Une journée à ne pas manquer : entre bonnes affaires et rencontres\, chacun y trouve son bonheur !
URL:https://fdfr84.foyersruraux.org/evenement/%f0%9f%94%8e-a-la-chasse-aux-trouvailles-vide-grenier-a-ne-pas-manquer-a-villes-sur-auzon/
CATEGORIES:Idées sorties pour le week-end
ATTACH;FMTTYPE=image/jpeg:https://fdfr84.foyersruraux.org/wp-content/uploads/sites/33/2025/05/vide-villes-sur.jpg
END:VEVENT
END:VCALENDAR