BEGIN:VCALENDAR
VERSION:2.0
PRODID:-//Fédération Départementale des Foyers Ruraux du Vaucluse - ECPv6.2.9//NONSGML v1.0//EN
CALSCALE:GREGORIAN
METHOD:PUBLISH
X-WR-CALNAME:Fédération Départementale des Foyers Ruraux du Vaucluse
X-ORIGINAL-URL:https://fdfr84.foyersruraux.org
X-WR-CALDESC:évènements pour Fédération Départementale des Foyers Ruraux du Vaucluse
REFRESH-INTERVAL;VALUE=DURATION:PT1H
X-Robots-Tag:noindex
X-PUBLISHED-TTL:PT1H
BEGIN:VTIMEZONE
TZID:Europe/Paris
BEGIN:DAYLIGHT
TZOFFSETFROM:+0100
TZOFFSETTO:+0200
TZNAME:CEST
DTSTART:20250330T010000
END:DAYLIGHT
BEGIN:STANDARD
TZOFFSETFROM:+0200
TZOFFSETTO:+0100
TZNAME:CET
DTSTART:20251026T010000
END:STANDARD
END:VTIMEZONE
BEGIN:VEVENT
DTSTART;TZID=Europe/Paris:20250612T203000
DTEND;TZID=Europe/Paris:20250612T223000
DTSTAMP:20260422T004951
CREATED:20250612T142857Z
LAST-MODIFIED:20250612T142916Z
UID:10000057-1749760200-1749767400@fdfr84.foyersruraux.org
SUMMARY:la troupe de théâtre d'ArCad monte sur scène
DESCRIPTION:Semaine riche en évènement chez Arcad Frep !\n\n\n\nL’association vous donne rendez-vous ce jeudi 12 juin à 20h30 pour la représentation de sa troupe de théâtre. Une pièce de Laurent Baffie “Toc Toc” au foyer Enerst Capdeville.
URL:https://fdfr84.foyersruraux.org/evenement/la-troupe-de-theatre-darcad-monte-sur-scene/
CATEGORIES:Théâtre
ATTACH;FMTTYPE=image/jpeg:https://fdfr84.foyersruraux.org/wp-content/uploads/sites/33/2025/06/506094507_24267628966177174_8919171947119764733_n.jpg
END:VEVENT
END:VCALENDAR