BEGIN:VCALENDAR
VERSION:2.0
PRODID:-//Fédération Départementale des Foyers Ruraux du Vaucluse - ECPv6.2.9//NONSGML v1.0//EN
CALSCALE:GREGORIAN
METHOD:PUBLISH
X-WR-CALNAME:Fédération Départementale des Foyers Ruraux du Vaucluse
X-ORIGINAL-URL:https://fdfr84.foyersruraux.org
X-WR-CALDESC:évènements pour Fédération Départementale des Foyers Ruraux du Vaucluse
REFRESH-INTERVAL;VALUE=DURATION:PT1H
X-Robots-Tag:noindex
X-PUBLISHED-TTL:PT1H
BEGIN:VTIMEZONE
TZID:Europe/Paris
BEGIN:DAYLIGHT
TZOFFSETFROM:+0100
TZOFFSETTO:+0200
TZNAME:CEST
DTSTART:20250330T010000
END:DAYLIGHT
BEGIN:STANDARD
TZOFFSETFROM:+0200
TZOFFSETTO:+0100
TZNAME:CET
DTSTART:20251026T010000
END:STANDARD
END:VTIMEZONE
BEGIN:VEVENT
DTSTART;TZID=Europe/Paris:20250621T140000
DTEND;TZID=Europe/Paris:20250621T160000
DTSTAMP:20260422T004908
CREATED:20250616T085843Z
LAST-MODIFIED:20250616T085843Z
UID:10000059-1750514400-1750521600@fdfr84.foyersruraux.org
SUMMARY:Atelier album photo à Caderousse
DESCRIPTION:Bientôt les vacances d’été\, quoi de mieux que d’immortaliser vos souvenirs de vacances qu’un album photo ? \n\n\n\nÇa tombe bien\, ce samedi 21 juin nous vous proposons un atelier dédié album photo ! \n\n\nAu programme :\n\n\n Apprenez à vous servir d’un logiciel de création d’album photo. \n Définissez votre projet – choix d’un format de livre\, le papier\, la reliure \n Sélectionnez vos photos – enregistrez et sécurisez le projet \n Construisez votre livre page à page \n Envoyez l’album pour l’impression par un professionnel \n\n\n\nSi vous n’avez pas encore de projets\, une série de photos sera mise à disposition pour apprendre à utiliser le logiciel. Pensez à apporter une clé USB !\n\n\n\nPour vous inscrire\, contactez-nous au 06 17 10 50 71 ou directement en message privé (Facebook ou Instagram).
URL:https://fdfr84.foyersruraux.org/evenement/atelier-album-photo-a-caderousse/
CATEGORIES:Activités
ATTACH;FMTTYPE=image/jpeg:https://fdfr84.foyersruraux.org/wp-content/uploads/sites/33/2025/06/507639053_603919812750336_2730138945135035009_n.jpg
END:VEVENT
BEGIN:VEVENT
DTSTART;TZID=Europe/Paris:20250621T170000
DTEND;TZID=Europe/Paris:20250621T233000
DTSTAMP:20260422T004908
CREATED:20250521T165941Z
LAST-MODIFIED:20250521T165941Z
UID:10000043-1750525200-1750548600@fdfr84.foyersruraux.org
SUMMARY:🎶 La Fête de la Musique vous donne rendez-vous à Roussillon🎸
DESCRIPTION:Le 21 juin\, la musique envahit les rues et les cœurs ! Venez célébrer cette soirée avec le FR Bien Vivre à Roussillon\n \n🎤 Des concerts pour tous les goûts et une ville en mouvement 🕺: chanteurs\, groupes et musiciens amateurs ou confirmés prendront possession des scènes et des pavés pour un moment de pure énergie.  \n🎷Venez nombreux et laissez-vous porter par la magie de la musique ! 🎵 \n 
URL:https://fdfr84.foyersruraux.org/evenement/%f0%9f%8e%b6-la-fete-de-la-musique-vous-donne-rendez-vous-a-roussillon%f0%9f%8e%b8/
CATEGORIES:Concert
ATTACH;FMTTYPE=image/jpeg:https://fdfr84.foyersruraux.org/wp-content/uploads/sites/33/2025/05/Fete-de-la-Musique-et-de-la-St-Jean.jpg
END:VEVENT
BEGIN:VEVENT
DTSTART;TZID=Europe/Paris:20250621T180000
DTEND;TZID=Europe/Paris:20250621T233000
DTSTAMP:20260422T004908
CREATED:20250612T143123Z
LAST-MODIFIED:20250612T143123Z
UID:10000058-1750528800-1750548600@fdfr84.foyersruraux.org
SUMMARY:La musique se fête à Saignon
DESCRIPTION:Cette année encore ça va swinguer à Saignon pour la fête de musique
URL:https://fdfr84.foyersruraux.org/evenement/la-musique-se-fete-a-saignon/
CATEGORIES:Concert
ATTACH;FMTTYPE=image/jpeg:https://fdfr84.foyersruraux.org/wp-content/uploads/sites/33/2025/06/504825761_1130579815778963_6199640402798554791_n.jpg
END:VEVENT
BEGIN:VEVENT
DTSTART;TZID=Europe/Paris:20250621T190000
DTEND;TZID=Europe/Paris:20250621T233000
DTSTAMP:20260422T004908
CREATED:20250526T130046Z
LAST-MODIFIED:20250526T130046Z
UID:10000044-1750532400-1750548600@fdfr84.foyersruraux.org
SUMMARY:🎶 La Fête de la Musique s'invite à Lacoste🎸
DESCRIPTION: Demandez le programme ! 🎵✨ \nLe rythme envahit les rues\, les mélodies résonnent\, et l’ambiance festive prend le dessus ! Cette année encore\, Lacoste célèbre la musique. Venez découvrir des artistes passionnés\, vibrer au son des concerts et partager un bon moment entre amis ou en famille.
URL:https://fdfr84.foyersruraux.org/evenement/%f0%9f%8e%b6-la-fete-de-la-musique-sinvite-a-lacoste%f0%9f%8e%b8/
CATEGORIES:Concert
ATTACH;FMTTYPE=image/jpeg:https://fdfr84.foyersruraux.org/wp-content/uploads/sites/33/2025/05/lacoste.jpg
END:VEVENT
END:VCALENDAR