BEGIN:VCALENDAR
VERSION:2.0
PRODID:-//Fédération Départementale des Foyers Ruraux du Vaucluse - ECPv6.2.9//NONSGML v1.0//EN
CALSCALE:GREGORIAN
METHOD:PUBLISH
X-WR-CALNAME:Fédération Départementale des Foyers Ruraux du Vaucluse
X-ORIGINAL-URL:https://fdfr84.foyersruraux.org
X-WR-CALDESC:évènements pour Fédération Départementale des Foyers Ruraux du Vaucluse
REFRESH-INTERVAL;VALUE=DURATION:PT1H
X-Robots-Tag:noindex
X-PUBLISHED-TTL:PT1H
BEGIN:VTIMEZONE
TZID:Europe/Paris
BEGIN:DAYLIGHT
TZOFFSETFROM:+0100
TZOFFSETTO:+0200
TZNAME:CEST
DTSTART:20250330T010000
END:DAYLIGHT
BEGIN:STANDARD
TZOFFSETFROM:+0200
TZOFFSETTO:+0100
TZNAME:CET
DTSTART:20251026T010000
END:STANDARD
END:VTIMEZONE
BEGIN:VEVENT
DTSTART;TZID=Europe/Paris:20250622T183000
DTEND;TZID=Europe/Paris:20250622T233000
DTSTAMP:20260422T004950
CREATED:20250603T180144Z
LAST-MODIFIED:20250603T180144Z
UID:10000050-1750617000-1750635000@fdfr84.foyersruraux.org
SUMMARY:🎤 Prêts à faire vibrer le micro avec le foyer rural de Ménerbes🎶
DESCRIPTION:✨Préparez votre plus belle voix pour une soirée inoubliable !  \nLe Foyer Rural de Ménerbes vous invite à une soirée karaoké haute en couleur ! Rendez-vous dimanche 22 juin dès 18h30 à la salle polyvalente pour une soirée pleine de musique\, de rires et de bonne humeur. \n🎵 Chantez vos hits préférés et révélez la star qui sommeille en vous !🍹 Un moment convivial à partager \n 
URL:https://fdfr84.foyersruraux.org/evenement/%f0%9f%8e%a4-prets-a-faire-vibrer-le-micro-avec-le-foyer-rural-de-menerbes%f0%9f%8e%b6/
CATEGORIES:Soirée
ATTACH;FMTTYPE=image/jpeg:https://fdfr84.foyersruraux.org/wp-content/uploads/sites/33/2025/06/karaoke-menerbes.jpg
END:VEVENT
END:VCALENDAR