BEGIN:VCALENDAR
VERSION:2.0
PRODID:-//Fédération Départementale des Foyers Ruraux du Vaucluse - ECPv6.2.9//NONSGML v1.0//EN
CALSCALE:GREGORIAN
METHOD:PUBLISH
X-WR-CALNAME:Fédération Départementale des Foyers Ruraux du Vaucluse
X-ORIGINAL-URL:https://fdfr84.foyersruraux.org
X-WR-CALDESC:évènements pour Fédération Départementale des Foyers Ruraux du Vaucluse
REFRESH-INTERVAL;VALUE=DURATION:PT1H
X-Robots-Tag:noindex
X-PUBLISHED-TTL:PT1H
BEGIN:VTIMEZONE
TZID:Europe/Paris
BEGIN:DAYLIGHT
TZOFFSETFROM:+0100
TZOFFSETTO:+0200
TZNAME:CEST
DTSTART:20250330T010000
END:DAYLIGHT
BEGIN:STANDARD
TZOFFSETFROM:+0200
TZOFFSETTO:+0100
TZNAME:CET
DTSTART:20251026T010000
END:STANDARD
END:VTIMEZONE
BEGIN:VEVENT
DTSTART;TZID=Europe/Paris:20250624T183000
DTEND;TZID=Europe/Paris:20250624T230000
DTSTAMP:20260422T004933
CREATED:20250617T115910Z
LAST-MODIFIED:20250617T115910Z
UID:10000064-1750789800-1750806000@fdfr84.foyersruraux.org
SUMMARY:Les Feux de la St Jean illuminent Mormoiron
DESCRIPTION:Le foyer rural de Mormoiron vous invite à partager un moment de joie de spectacles et tradition!\nAu programme :\n– Concert\n– Spectacle de feu\n– Arrivée de la flamme du canigou\n– Jeu gonflable offert aux enfants \nPetite restauration et buvette sur place ou possibilité d’amener votre pique nique et de vous servir chez les restaurateurs de votre choix pour profiter du spectacle
URL:https://fdfr84.foyersruraux.org/evenement/les-feux-de-la-st-jean-illuminent-mormoiron/
CATEGORIES:Tradition et Patrimoine
ATTACH;FMTTYPE=image/jpeg:https://fdfr84.foyersruraux.org/wp-content/uploads/sites/33/2025/06/fuex-mormoiron.jpg
END:VEVENT
BEGIN:VEVENT
DTSTART;TZID=Europe/Paris:20250624T203000
DTEND;TZID=Europe/Paris:20250624T233000
DTSTAMP:20260422T004933
CREATED:20250521T163240Z
LAST-MODIFIED:20250521T163240Z
UID:10000039-1750797000-1750807800@fdfr84.foyersruraux.org
SUMMARY:🔥 Danse en lumière : le gala de Cheval Blanc va encore vous faire vibrer 🔥
DESCRIPTION:La magie du mouvement\, l’émotion de la scène et la passion des danseurs… Bienvenue au gala de fin d’année du Foyer Rural de Cheval Blanc ! \n✨ Un spectacle époustouflant : nos danseurs vous réservent un show inoubliable. 🎶 Des chorégraphies vibrantes : classiques\, modernes\, audacieuses… il y en aura pour tous les styles !\n \n📅 Venez célébrer la danse et encourager nos talents sur scène ! Une soirée riche en émotions vous attend… Ne manquez pas ce grand final ! 🎭 \n\n\n\n\n\n\n\n\n\n\n\n\n\n\n\n\n\n RDV le mardi 24 juin à 20h30 sur le parking du stade.  On vous attend nombreux
URL:https://fdfr84.foyersruraux.org/evenement/%f0%9f%94%a5-danse-en-lumiere-le-gala-de-cheval-blanc-va-encore-vous-faire-vibrer-%f0%9f%94%a5/
CATEGORIES:Spectacle
ATTACH;FMTTYPE=image/jpeg:https://fdfr84.foyersruraux.org/wp-content/uploads/sites/33/2025/05/gala-cheval-blanv.jpg
END:VEVENT
END:VCALENDAR