BEGIN:VCALENDAR
VERSION:2.0
PRODID:-//Fédération Départementale des Foyers Ruraux du Vaucluse - ECPv6.2.9//NONSGML v1.0//EN
CALSCALE:GREGORIAN
METHOD:PUBLISH
X-ORIGINAL-URL:https://fdfr84.foyersruraux.org
X-WR-CALDESC:évènements pour Fédération Départementale des Foyers Ruraux du Vaucluse
REFRESH-INTERVAL;VALUE=DURATION:PT1H
X-Robots-Tag:noindex
X-PUBLISHED-TTL:PT1H
BEGIN:VTIMEZONE
TZID:Europe/Paris
BEGIN:DAYLIGHT
TZOFFSETFROM:+0100
TZOFFSETTO:+0200
TZNAME:CEST
DTSTART:20250330T010000
END:DAYLIGHT
BEGIN:STANDARD
TZOFFSETFROM:+0200
TZOFFSETTO:+0100
TZNAME:CET
DTSTART:20251026T010000
END:STANDARD
END:VTIMEZONE
BEGIN:VEVENT
DTSTART;TZID=Europe/Paris:20250629T183000
DTEND;TZID=Europe/Paris:20250629T210000
DTSTAMP:20260422T005037
CREATED:20250616T090421Z
LAST-MODIFIED:20250616T090421Z
UID:10000061-1751221800-1751230800@fdfr84.foyersruraux.org
SUMMARY:Les déboires de Mr Beethoven
DESCRIPTION:🤩 Avec le foyer rural de Viens !
URL:https://fdfr84.foyersruraux.org/evenement/les-deboires-de-mr-beethoven/
CATEGORIES:Spectacle
ATTACH;FMTTYPE=image/jpeg:https://fdfr84.foyersruraux.org/wp-content/uploads/sites/33/2025/06/2-Les-deboires-de-Mr.Beethoven-A3_page-0001.jpg
END:VEVENT
END:VCALENDAR