BEGIN:VCALENDAR
VERSION:2.0
PRODID:-//Fédération Départementale des Foyers Ruraux du Vaucluse - ECPv6.2.9//NONSGML v1.0//EN
CALSCALE:GREGORIAN
METHOD:PUBLISH
X-WR-CALNAME:Fédération Départementale des Foyers Ruraux du Vaucluse
X-ORIGINAL-URL:https://fdfr84.foyersruraux.org
X-WR-CALDESC:évènements pour Fédération Départementale des Foyers Ruraux du Vaucluse
REFRESH-INTERVAL;VALUE=DURATION:PT1H
X-Robots-Tag:noindex
X-PUBLISHED-TTL:PT1H
BEGIN:VTIMEZONE
TZID:Europe/Paris
BEGIN:DAYLIGHT
TZOFFSETFROM:+0100
TZOFFSETTO:+0200
TZNAME:CEST
DTSTART:20250330T010000
END:DAYLIGHT
BEGIN:STANDARD
TZOFFSETFROM:+0200
TZOFFSETTO:+0100
TZNAME:CET
DTSTART:20251026T010000
END:STANDARD
END:VTIMEZONE
BEGIN:VEVENT
DTSTART;TZID=Europe/Paris:20250703T083000
DTEND;TZID=Europe/Paris:20250724T110000
DTSTAMP:20260421T231330
CREATED:20250616T090626Z
LAST-MODIFIED:20250616T091140Z
UID:10000062-1751531400-1753354800@fdfr84.foyersruraux.org
SUMMARY:Balades et ateliers "Murmures des pierres"
DESCRIPTION:🤩 Avec le foyer rural de Viens !
URL:https://fdfr84.foyersruraux.org/evenement/balades-et-ateliers-murmures-des-pierres/
CATEGORIES:Activités
ATTACH;FMTTYPE=image/jpeg:https://fdfr84.foyersruraux.org/wp-content/uploads/sites/33/2025/06/MURMURES-DES-PIERRES-corrige_page-0001.jpg
END:VEVENT
BEGIN:VEVENT
DTSTART;TZID=Europe/Paris:20250719T200000
DTEND;TZID=Europe/Paris:20250719T230000
DTSTAMP:20260421T231330
CREATED:20250707T095629Z
LAST-MODIFIED:20250707T095648Z
UID:10000068-1752955200-1752966000@fdfr84.foyersruraux.org
SUMMARY:Best Of : 20 ans de théâtre avec la troupe du foyer rural de Gordes !
DESCRIPTION:La troupe du Foyer rural de Gordes aux théâtre des Terrasses le samedi 19 juillet\, Venez nombreux !
URL:https://fdfr84.foyersruraux.org/evenement/best-of-20-ans-de-theatre-avec-la-troupe-du-foyer-rural-de-gordes/
CATEGORIES:Théâtre
ATTACH;FMTTYPE=image/jpeg:https://fdfr84.foyersruraux.org/wp-content/uploads/sites/33/2025/07/513826003_10238860383188531_1128249204531231611_n.jpg
END:VEVENT
END:VCALENDAR