BEGIN:VCALENDAR
VERSION:2.0
PRODID:-//Fédération Départementale des Foyers Ruraux du Vaucluse - ECPv6.2.9//NONSGML v1.0//EN
CALSCALE:GREGORIAN
METHOD:PUBLISH
X-WR-CALNAME:Fédération Départementale des Foyers Ruraux du Vaucluse
X-ORIGINAL-URL:https://fdfr84.foyersruraux.org
X-WR-CALDESC:évènements pour Fédération Départementale des Foyers Ruraux du Vaucluse
REFRESH-INTERVAL;VALUE=DURATION:PT1H
X-Robots-Tag:noindex
X-PUBLISHED-TTL:PT1H
BEGIN:VTIMEZONE
TZID:Europe/Paris
BEGIN:DAYLIGHT
TZOFFSETFROM:+0100
TZOFFSETTO:+0200
TZNAME:CEST
DTSTART:20250330T010000
END:DAYLIGHT
BEGIN:STANDARD
TZOFFSETFROM:+0200
TZOFFSETTO:+0100
TZNAME:CET
DTSTART:20251026T010000
END:STANDARD
END:VTIMEZONE
BEGIN:VEVENT
DTSTART;TZID=Europe/Paris:20250829T200000
DTEND;TZID=Europe/Paris:20250829T230000
DTSTAMP:20260421T212933
CREATED:20250827T120152Z
LAST-MODIFIED:20250827T120152Z
UID:10000080-1756497600-1756508400@fdfr84.foyersruraux.org
SUMMARY:🌠 La tête dans les étoiles – direction Cheval Blanc!
DESCRIPTION:Le ciel nous offre ses merveilles …  RDV le 29 août avec Pégase Astronomie qui vous propose une soirée magique à l’occasion de la Nuit des Étoiles : un moment suspendu entre science\, poésie et émerveillement. \n🔭 Observation du ciel avec télescopes 🌌 Découverte des constellations et des planètes 📖 Petites histoires célestes pour rêver les yeux ouverts 🎶 Ambiance conviviale et douce sous les étoiles \nQue vous soyez passionné·e d’astronomie ou simplement curieux·se\, cette soirée est ouverte à tous les publics. Venez avec une couverture\, un coussin\, et surtout… votre envie de rêver ! \n📍 Lieu : sur le parking du stade à Cheval Blanc (543 grande rue) \n🕖 Horaire : à partir de 20h \n💫 Participation libre et joyeuse
URL:https://fdfr84.foyersruraux.org/evenement/%f0%9f%8c%a0-la-tete-dans-les-etoiles-direction-cheval-blanc/
CATEGORIES:Soirée
ATTACH;FMTTYPE=image/jpeg:https://fdfr84.foyersruraux.org/wp-content/uploads/sites/33/2025/08/537874129_1910228546502184_5954475405766613061_n.jpg
END:VEVENT
END:VCALENDAR