BEGIN:VCALENDAR
VERSION:2.0
PRODID:-//Fédération Départementale des Foyers Ruraux du Vaucluse - ECPv6.2.9//NONSGML v1.0//EN
CALSCALE:GREGORIAN
METHOD:PUBLISH
X-ORIGINAL-URL:https://fdfr84.foyersruraux.org
X-WR-CALDESC:évènements pour Fédération Départementale des Foyers Ruraux du Vaucluse
REFRESH-INTERVAL;VALUE=DURATION:PT1H
X-Robots-Tag:noindex
X-PUBLISHED-TTL:PT1H
BEGIN:VTIMEZONE
TZID:Europe/Paris
BEGIN:DAYLIGHT
TZOFFSETFROM:+0100
TZOFFSETTO:+0200
TZNAME:CEST
DTSTART:20250330T010000
END:DAYLIGHT
BEGIN:STANDARD
TZOFFSETFROM:+0200
TZOFFSETTO:+0100
TZNAME:CET
DTSTART:20251026T010000
END:STANDARD
END:VTIMEZONE
BEGIN:VEVENT
DTSTART;TZID=Europe/Paris:20250914T120000
DTEND;TZID=Europe/Paris:20250914T180000
DTSTAMP:20260421T200048
CREATED:20250902T140631Z
LAST-MODIFIED:20250902T140631Z
UID:10000089-1757851200-1757872800@fdfr84.foyersruraux.org
SUMMARY:Loto provençal à Villelaure
DESCRIPTION:Loto en plein air – RDV dimanche 14 septembre 2025 au Parc du château – organisé par le Foyer Rural de Villelaure\n\nLe 1er loto de la saison avec une restauration à midi pour ceux qui veulent commencer par un bon repas provençal \n\nPour les autres le loto est à 15h \n\n\n\nResa repas au 0682344630 / 0645837662
URL:https://fdfr84.foyersruraux.org/evenement/loto-provencal-a-villelaure/
CATEGORIES:Idées sorties pour le week-end
ATTACH;FMTTYPE=image/jpeg:https://fdfr84.foyersruraux.org/wp-content/uploads/sites/33/2025/09/VILLELAURE.jpg
END:VEVENT
END:VCALENDAR