BEGIN:VCALENDAR
VERSION:2.0
PRODID:-//Fédération Départementale des Foyers Ruraux du Vaucluse - ECPv6.2.9//NONSGML v1.0//EN
CALSCALE:GREGORIAN
METHOD:PUBLISH
X-ORIGINAL-URL:https://fdfr84.foyersruraux.org
X-WR-CALDESC:évènements pour Fédération Départementale des Foyers Ruraux du Vaucluse
REFRESH-INTERVAL;VALUE=DURATION:PT1H
X-Robots-Tag:noindex
X-PUBLISHED-TTL:PT1H
BEGIN:VTIMEZONE
TZID:Europe/Paris
BEGIN:DAYLIGHT
TZOFFSETFROM:+0100
TZOFFSETTO:+0200
TZNAME:CEST
DTSTART:20250330T010000
END:DAYLIGHT
BEGIN:STANDARD
TZOFFSETFROM:+0200
TZOFFSETTO:+0100
TZNAME:CET
DTSTART:20251026T010000
END:STANDARD
END:VTIMEZONE
BEGIN:VEVENT
DTSTART;VALUE=DATE:20250927
DTEND;VALUE=DATE:20250929
DTSTAMP:20260421T200049
CREATED:20250828T074432Z
LAST-MODIFIED:20250828T074432Z
UID:10000083-1758931200-1759103999@fdfr84.foyersruraux.org
SUMMARY:Grande braderie Téléthon à Mérindol
DESCRIPTION:Grande braderie du Téléthon organisée par le Foyer Rural de Mérindol !\n100% des recettes seront reversées à l’AFM Téléthon.\n\n\n\n les 27 & 28 septembre\n 8h à 18h\n Salle des fêtes\nDe nombreux stands seront proposés :\n Puériculture (lits\, poussette\, parc\, jouets\, vêtements)\n Vêtements (enfants et adultes)\n Décoration\n Bricolage et jardinage\n Sport et loisirs (vélo\, ski\, golf\, rando etc…)\n Vaisselle\, électroménager (micro-onde\, aspirateur etc.)\n Loisirs créatifs (tricot\, couture\, collage\, bien être\, etc… )\n\n\n Buvette et restauration sur place.
URL:https://fdfr84.foyersruraux.org/evenement/grande-braderie-telethon-a-merindol/
ATTACH;FMTTYPE=image/jpeg:https://fdfr84.foyersruraux.org/wp-content/uploads/sites/33/2025/08/540921766_778194144605421_4696570126828475726_n.jpg
END:VEVENT
BEGIN:VEVENT
DTSTART;TZID=Europe/Paris:20250928T163000
DTEND;TZID=Europe/Paris:20250928T193000
DTSTAMP:20260421T200049
CREATED:20250829T124649Z
LAST-MODIFIED:20250829T124649Z
UID:10000086-1759077000-1759087800@fdfr84.foyersruraux.org
SUMMARY:📚Clovis Hugues à l’honneur – Rencontre & projection à Ménerbes 🎬
DESCRIPTION:Le foyer rural de Ménerbes vous invite à une après-midi culturelle autour de la figure marquante de Clovis Hugues\, poète\, journaliste et homme politique engagé du XIXe siècle. \nÀ 16h30\, l’association accueillera Serge Sebban\, auteur passionné\, pour une rencontre autour de son travail et de la personnalité fascinante de Clovis Hugues. \nPuis à 18h\, place à la projection du film “L’affaire Hugues”\, qui retrace les moments forts de sa vie et les enjeux de son époque. \n🍷 La soirée se clôturera par un apéritif convivial\, l’occasion d’échanger et de prolonger les discussions dans une ambiance chaleureuse. \n🎟️ Entrée libre – Tout public \nVenez découvrir ou redécouvrir un homme libre\, une voix singulière\, et partager un moment riche en histoire et en émotions. \n🗓️ Dimanche 28 septembre 2025 📍 Maison de la Truffe – Ménerbes
URL:https://fdfr84.foyersruraux.org/evenement/%f0%9f%93%9aclovis-hugues-a-lhonneur-rencontre-projection-a-menerbes-%f0%9f%8e%ac/
CATEGORIES:Conférence
ATTACH;FMTTYPE=image/jpeg:https://fdfr84.foyersruraux.org/wp-content/uploads/sites/33/2025/08/Affiche-Hugues-OK-impression_page-0001-scaled.jpg
END:VEVENT
END:VCALENDAR