BEGIN:VCALENDAR
VERSION:2.0
PRODID:-//Fédération Départementale des Foyers Ruraux du Vaucluse - ECPv6.2.9//NONSGML v1.0//EN
CALSCALE:GREGORIAN
METHOD:PUBLISH
X-ORIGINAL-URL:https://fdfr84.foyersruraux.org
X-WR-CALDESC:évènements pour Fédération Départementale des Foyers Ruraux du Vaucluse
REFRESH-INTERVAL;VALUE=DURATION:PT1H
X-Robots-Tag:noindex
X-PUBLISHED-TTL:PT1H
BEGIN:VTIMEZONE
TZID:Europe/Paris
BEGIN:DAYLIGHT
TZOFFSETFROM:+0100
TZOFFSETTO:+0200
TZNAME:CEST
DTSTART:20250330T010000
END:DAYLIGHT
BEGIN:STANDARD
TZOFFSETFROM:+0200
TZOFFSETTO:+0100
TZNAME:CET
DTSTART:20251026T010000
END:STANDARD
END:VTIMEZONE
BEGIN:VEVENT
DTSTART;TZID=Europe/Paris:20251001T140000
DTEND;TZID=Europe/Paris:20251001T170000
DTSTAMP:20260421T181159
CREATED:20250924T075301Z
LAST-MODIFIED:20250924T075301Z
UID:10000104-1759327200-1759338000@fdfr84.foyersruraux.org
SUMMARY:Les ateliers Namasté : nouveauté à Mormoiron
DESCRIPTION:À ne pas manquer !!!! Le mercredi 1er octobre le foyer rural vous invite à découvrir un atelier qui va vous régaler !\n\nDanse Bollywood suivi de relaxation sonore et rebozo!! \nAttention!!! Vous risquez de vouloir recommencer !\n\n\n\nOffre de lancement : don libre  !\n\n\nInscription enfants ( de 14 à 15h ):\nhttps://www.vibralame.fr/…/les-ateliers-namaste-seance…\n\n\nInscriptions adultes ( de 15h30 à 17h ):\nhttps://www.vibralame.fr/…/les-ateliers-namaste-seance…
URL:https://fdfr84.foyersruraux.org/evenement/les-ateliers-namaste-nouveaute-a-mormoiron/
CATEGORIES:Activités
ATTACH;FMTTYPE=image/jpeg:https://fdfr84.foyersruraux.org/wp-content/uploads/sites/33/2025/09/550173710_1418758763591093_8570603280757455160_n.jpg
END:VEVENT
END:VCALENDAR