BEGIN:VCALENDAR
VERSION:2.0
PRODID:-//Fédération Départementale des Foyers Ruraux du Vaucluse - ECPv6.2.9//NONSGML v1.0//EN
CALSCALE:GREGORIAN
METHOD:PUBLISH
X-ORIGINAL-URL:https://fdfr84.foyersruraux.org
X-WR-CALDESC:évènements pour Fédération Départementale des Foyers Ruraux du Vaucluse
REFRESH-INTERVAL;VALUE=DURATION:PT1H
X-Robots-Tag:noindex
X-PUBLISHED-TTL:PT1H
BEGIN:VTIMEZONE
TZID:Europe/Paris
BEGIN:DAYLIGHT
TZOFFSETFROM:+0100
TZOFFSETTO:+0200
TZNAME:CEST
DTSTART:20250330T010000
END:DAYLIGHT
BEGIN:STANDARD
TZOFFSETFROM:+0200
TZOFFSETTO:+0100
TZNAME:CET
DTSTART:20251026T010000
END:STANDARD
END:VTIMEZONE
BEGIN:VEVENT
DTSTART;TZID=Europe/Paris:20251011T140000
DTEND;TZID=Europe/Paris:20251011T160000
DTSTAMP:20260421T182323
CREATED:20251008T125001Z
LAST-MODIFIED:20251008T125001Z
UID:10000120-1760191200-1760198400@fdfr84.foyersruraux.org
SUMMARY:Atelier conte d'automne à Perthuis
DESCRIPTION:Venez à la rencontre de la Compagnie d’Artiel et participer au 1er conte-atelier de la saison !  \nVotre enfant découvrira un nouveau conte et pourra fabriquer un jeu de société qu il ramènera à la maison pour jouer avec vous et créer des décos d automne !  \nRDV le samedi 11 octobre\, de 14h à 16h dans le local de Cie\, 38 rue du théâtre à Pertuis. \nAlors pas d’hésitation\, inscrivez-vous vite au 06.76.86.95.25. !
URL:https://fdfr84.foyersruraux.org/evenement/atelier-conte-dautomne-a-perthuis/
CATEGORIES:Activités,En famille ...
ATTACH;FMTTYPE=image/jpeg:https://fdfr84.foyersruraux.org/wp-content/uploads/sites/33/2025/10/cie-artiel.jpg
END:VEVENT
BEGIN:VEVENT
DTSTART;TZID=Europe/Paris:20251011T140000
DTEND;TZID=Europe/Paris:20251011T163000
DTSTAMP:20260421T182324
CREATED:20251008T124348Z
LAST-MODIFIED:20251008T124348Z
UID:10000119-1760191200-1760200200@fdfr84.foyersruraux.org
SUMMARY:👻✨ Le CadLab se met aux couleurs d’Halloween !
DESCRIPTION:Rendez-vous le samedi 11 octobre de 14h à 16h30 pour un atelier spécial décoration d’Halloween plein de créativité et de bonne humeur ! \n\n\n\n Avec Gilles et Martine vos enfants pourront laisser libre cours à leur imagination :\n–  Atelier décoration (5 à 9 ans) : peinture\, gommettes\, collages sur des masques et des fantômes rigolos à créer soi-même \n–  Atelier sculpture de citrouilles (dès 9 ans) : creusez\, sculptez et transformez votre citrouille en véritable œuvre d’art terrifiante ! \n\n\n\nUn après-midi placé sous le signe de la créativité et de l’esprit d’Halloween ! \n\n\n Lieu : Espace Ernest Capdeville\, 7 rue château Vieux – 84860 Caderousse\n Horaires : 14h à 16h30\n Inscriptions obligatoires au 06 17 10 50 71 ou directement en message privé (Facebook/Instagram)
URL:https://fdfr84.foyersruraux.org/evenement/%f0%9f%91%bb%e2%9c%a8-le-cadlab-se-met-aux-couleurs-dhalloween/
CATEGORIES:En famille ...
ATTACH;FMTTYPE=image/jpeg:https://fdfr84.foyersruraux.org/wp-content/uploads/sites/33/2025/10/557709412_701407666334883_605282350066733157_n.jpg
END:VEVENT
BEGIN:VEVENT
DTSTART;TZID=Europe/Paris:20251011T150000
DTEND;TZID=Europe/Paris:20251011T170000
DTSTAMP:20260421T182324
CREATED:20251008T130210Z
LAST-MODIFIED:20251008T130210Z
UID:10000122-1760194800-1760202000@fdfr84.foyersruraux.org
SUMMARY:Grande MOBILISATION - tous unis derrière le tissus associatif en danger
DESCRIPTION:Le samedi 11 octobre aura lieu la journée nationale d’action pour la défense des associations\, portée par le Mouvement associatif.\n\n\n\n  À Avignon\, l’APROVA se fait le relais de cette mobilisation en vous invitant à y prendre part pour défendre l’avenir du tissu associatif local.\n\n\n\nFace au désengagement progressif des partenaires institutionnels\, à la baisse des financements publics\, à la précarité croissante et à la fatigue des bénévoles et salariés\, nos associations – petites ou grandes – sont en danger.\nPourtant\, sans elles\, que deviendrait notre société ?\n– Pas de sport ni de culture \n– Pas d’aide à la personne \n– Pas de lien social ni de solidarité \n– Pas de frein à l’effondrement de la biodiversité \n\n\n\n Ce n’est pas le monde que nous voulons.\nIl est urgent d’agir\, ensemble\, pour maintenir le financement et la reconnaissance du rôle vital des associations dans la vie publique.\n\n\n\n Rendez-vous à Avignon le 11 octobre à 15h\nAu programme :\nUne action “Porteur de paroles” dans plusieurs lieux de la ville\nUn “Temps d’écriture” collectif et participatif\n\n\nPour connaitre le programme précis (lieu\, horaires\, organisation\,…) cliquez ici : https://framaforms.org/samedi-11-octobre-a-15h-a-la…\n\n\n\nCette rencontre sera l’occasion d’échanger entre associations\, de témoigner des difficultés rencontrées et de réfléchir ensemble aux moyens de préserver la capacité d’agir au service de l’intérêt général.
URL:https://fdfr84.foyersruraux.org/evenement/grande-mobilisation-tous-unis-derriere-le-tissus-associatif-en-danger/
CATEGORIES:Solidarité
ATTACH;FMTTYPE=image/jpeg:https://fdfr84.foyersruraux.org/wp-content/uploads/sites/33/2025/10/AfficheMobilisation2_page-0001.jpg
END:VEVENT
BEGIN:VEVENT
DTSTART;TZID=Europe/Paris:20251011T160000
DTEND;TZID=Europe/Paris:20251011T180000
DTSTAMP:20260421T182324
CREATED:20250930T083301Z
LAST-MODIFIED:20250930T083433Z
UID:10000111-1760198400-1760205600@fdfr84.foyersruraux.org
SUMMARY:🎨 Exposition de l’Atelier des Arts – Ménerbes
DESCRIPTION:L’Atelier des Arts du foyer rural de Ménerbes est heureux de vous inviter à découvrir les créations de ses adhérents lors de son exposition annuelle\, qui se tiendra du 11 au 18 octobre 2025\, à la Maison de la Truffe et du Vin de Ménerbes 🖼️ \n🕙 Horaires d’ouverture : Tous les jours de 10h à 12h et de 14h à 17h30 \n📍 Venez admirer peintures\, dessins et autres œuvres réalisées avec passion tout au long de l’année. \n🍷 Vernissage le 11 octobre à 16h – un moment convivial pour échanger avec les artistes et célébrer ensemble le lancement de l’exposition ! \nEntrée libre – Tout le monde est le bienvenue !
URL:https://fdfr84.foyersruraux.org/evenement/%f0%9f%8e%a8-exposition-de-latelier-des-arts-menerbes/
CATEGORIES:Art § Culture
ATTACH;FMTTYPE=image/jpeg:https://fdfr84.foyersruraux.org/wp-content/uploads/sites/33/2025/09/555462625_801581382270892_8457290570461424226_n.jpg
END:VEVENT
BEGIN:VEVENT
DTSTART;TZID=Europe/Paris:20251011T190000
DTEND;TZID=Europe/Paris:20251011T230000
DTSTAMP:20260421T182324
CREATED:20250908T080507Z
LAST-MODIFIED:20250908T080507Z
UID:10000090-1760209200-1760223600@fdfr84.foyersruraux.org
SUMMARY:Soirée astronomie à Cheval Blanc - "Le jour dans la nuit"
DESCRIPTION:Rejoignez la section astronomie “Pégase astronomie” pour une nuit sous les étoiles.  \nRDV le samedi 11 octobre 2025 à 19h sur le parking du stade de Cheval Blanc
URL:https://fdfr84.foyersruraux.org/evenement/soiree-astronomie-a-cheval-blanc-le-jour-dans-la-nuit/
CATEGORIES:Soirée
ATTACH;FMTTYPE=image/jpeg:https://fdfr84.foyersruraux.org/wp-content/uploads/sites/33/2025/09/545411371_1922082745316764_1964466127444592939_n.jpg
END:VEVENT
END:VCALENDAR