BEGIN:VCALENDAR
VERSION:2.0
PRODID:-//Fédération Départementale des Foyers Ruraux du Vaucluse - ECPv6.2.9//NONSGML v1.0//EN
CALSCALE:GREGORIAN
METHOD:PUBLISH
X-WR-CALNAME:Fédération Départementale des Foyers Ruraux du Vaucluse
X-ORIGINAL-URL:https://fdfr84.foyersruraux.org
X-WR-CALDESC:évènements pour Fédération Départementale des Foyers Ruraux du Vaucluse
REFRESH-INTERVAL;VALUE=DURATION:PT1H
X-Robots-Tag:noindex
X-PUBLISHED-TTL:PT1H
BEGIN:VTIMEZONE
TZID:Europe/Paris
BEGIN:DAYLIGHT
TZOFFSETFROM:+0100
TZOFFSETTO:+0200
TZNAME:CEST
DTSTART:20250330T010000
END:DAYLIGHT
BEGIN:STANDARD
TZOFFSETFROM:+0200
TZOFFSETTO:+0100
TZNAME:CET
DTSTART:20251026T010000
END:STANDARD
END:VTIMEZONE
BEGIN:VEVENT
DTSTART;TZID=Europe/Paris:20251012T090000
DTEND;TZID=Europe/Paris:20251012T140000
DTSTAMP:20260421T182125
CREATED:20251009T152736Z
LAST-MODIFIED:20251009T152818Z
UID:10000123-1760259600-1760277600@fdfr84.foyersruraux.org
SUMMARY:Randonnée en Vaucluse
DESCRIPTION:Les RDV RANDOS \n\nRetrouvez les marcheurs du foyer rural de Villes sur Auzon ce dimanche 12 octobre 2025 et profitez d’une balade à Saint Trinit
URL:https://fdfr84.foyersruraux.org/evenement/randonnee-en-vaucluse/
CATEGORIES:Activité physique
ATTACH;FMTTYPE=image/jpeg:https://fdfr84.foyersruraux.org/wp-content/uploads/sites/33/2025/10/Saint-Trinit-Champignons_page-0001-scaled.jpg
END:VEVENT
END:VCALENDAR