BEGIN:VCALENDAR
VERSION:2.0
PRODID:-//Fédération Départementale des Foyers Ruraux du Vaucluse - ECPv6.2.9//NONSGML v1.0//EN
CALSCALE:GREGORIAN
METHOD:PUBLISH
X-WR-CALNAME:Fédération Départementale des Foyers Ruraux du Vaucluse
X-ORIGINAL-URL:https://fdfr84.foyersruraux.org
X-WR-CALDESC:évènements pour Fédération Départementale des Foyers Ruraux du Vaucluse
REFRESH-INTERVAL;VALUE=DURATION:PT1H
X-Robots-Tag:noindex
X-PUBLISHED-TTL:PT1H
BEGIN:VTIMEZONE
TZID:Europe/Paris
BEGIN:DAYLIGHT
TZOFFSETFROM:+0100
TZOFFSETTO:+0200
TZNAME:CEST
DTSTART:20250330T010000
END:DAYLIGHT
BEGIN:STANDARD
TZOFFSETFROM:+0200
TZOFFSETTO:+0100
TZNAME:CET
DTSTART:20251026T010000
END:STANDARD
END:VTIMEZONE
BEGIN:VEVENT
DTSTART;TZID=Europe/Paris:20251013T180000
DTEND;TZID=Europe/Paris:20251013T213000
DTSTAMP:20260421T180946
CREATED:20251008T125821Z
LAST-MODIFIED:20251008T125821Z
UID:10000121-1760378400-1760391000@fdfr84.foyersruraux.org
SUMMARY:Un café asso à Viens - ouverture en soirée
DESCRIPTION:Le foyer rural de Viens ouvre les portes de son café associatif en soirée \nRetrouvez les bénévoles de l’association tous les lundis soirs à partir de 18h …. Ils/elles invitent tous les habitants du village et des alentours\, les vacanciers de passage dans le coin à venir partager un moment de convivialité autour d’un verre\, d’une table de jeu etc. \nCe lieu ouvert à tous et toutes vous tend les bras pour en faire un lieu de rencontre\, d’expression pour et avec les habitants. 
URL:https://fdfr84.foyersruraux.org/evenement/un-cafe-asso-a-viens-ouverture-en-soiree/
CATEGORIES:Solidarité
ATTACH;FMTTYPE=image/jpeg:https://fdfr84.foyersruraux.org/wp-content/uploads/sites/33/2025/10/558396333_25367881946130644_7192062579133566531_n.jpg
END:VEVENT
END:VCALENDAR