BEGIN:VCALENDAR
VERSION:2.0
PRODID:-//Fédération Départementale des Foyers Ruraux du Vaucluse - ECPv6.2.9//NONSGML v1.0//EN
CALSCALE:GREGORIAN
METHOD:PUBLISH
X-WR-CALNAME:Fédération Départementale des Foyers Ruraux du Vaucluse
X-ORIGINAL-URL:https://fdfr84.foyersruraux.org
X-WR-CALDESC:évènements pour Fédération Départementale des Foyers Ruraux du Vaucluse
REFRESH-INTERVAL;VALUE=DURATION:PT1H
X-Robots-Tag:noindex
X-PUBLISHED-TTL:PT1H
BEGIN:VTIMEZONE
TZID:Europe/Paris
BEGIN:DAYLIGHT
TZOFFSETFROM:+0100
TZOFFSETTO:+0200
TZNAME:CEST
DTSTART:20250330T010000
END:DAYLIGHT
BEGIN:STANDARD
TZOFFSETFROM:+0200
TZOFFSETTO:+0100
TZNAME:CET
DTSTART:20251026T010000
END:STANDARD
END:VTIMEZONE
BEGIN:VEVENT
DTSTART;TZID=Europe/Paris:20251016T100000
DTEND;TZID=Europe/Paris:20251019T200000
DTSTAMP:20260421T182113
CREATED:20250930T084039Z
LAST-MODIFIED:20250930T084039Z
UID:10000112-1760608800-1760904000@fdfr84.foyersruraux.org
SUMMARY:Le FR de Mormoiron se mobilise pour "Octobre Rose"
DESCRIPTION:Le Foyer Rural de Mormoiron vous attend nombreux !!! Tout le monde peut participer !!!!\n\nAu programme :\n– Jeudi 16 octobre = Zumba 20h à la ruche\n– Vendredi 17 octobre = 19h footing et exercices\, RDV place du clos\n– Samedi 18 octobre matin = sortie vélo à 10h parking choc viande parcours par la via venaissia ( environ 8 km de plat) réalisable sans gros niveau jusqu’à sarrians\n                                 Apres-midi RDV 14h à la ruche pour une sortie balade en famille dans les limons\n– Dimanche 19 octobre = vente de rubans roses sur le marché\n\nParticipation et tenue rose espérée !
URL:https://fdfr84.foyersruraux.org/evenement/le-fr-de-mormoiron-se-mobilise-pour-octobre-rose/
CATEGORIES:Solidarité
ATTACH;FMTTYPE=image/jpeg:https://fdfr84.foyersruraux.org/wp-content/uploads/sites/33/2025/09/555726008_10163431321297866_7867420970413695398_n.jpg
END:VEVENT
BEGIN:VEVENT
DTSTART;TZID=Europe/Paris:20251017T190000
DTEND;TZID=Europe/Paris:20251017T210000
DTSTAMP:20260421T182113
CREATED:20251002T071655Z
LAST-MODIFIED:20251015T105928Z
UID:10000115-1760727600-1760734800@fdfr84.foyersruraux.org
SUMMARY:Assemblée Générale du FR Cheval Blanc - On compte sur vous !
DESCRIPTION:Venez faire le point\, partager vos idées\, découvrir les projets à venir… et passer un bon moment avec le Foyer Rural de Cheval Blanc autour du verre de l’amitié 🍻 \nVotre voix compte\, votre présence aussi 💬 \n👉 Ouvert à toutes et tous\, membres\, curieux·ses\, ami·es de l’asso ! \n📅 17 octobre 2025 \n📍à la salle des Moulins\, Cheval Blanc \n🕒à partir de 19h \n #FoyersRuraux #VieAssociative 
URL:https://fdfr84.foyersruraux.org/evenement/assemblee-generale-fr-cheval-blanc/
ATTACH;FMTTYPE=image/jpeg:https://fdfr84.foyersruraux.org/wp-content/uploads/sites/33/2025/10/556802967_1942141743310864_1979260008665589232_n.jpg
END:VEVENT
END:VCALENDAR