BEGIN:VCALENDAR
VERSION:2.0
PRODID:-//Fédération Départementale des Foyers Ruraux du Vaucluse - ECPv6.2.9//NONSGML v1.0//EN
CALSCALE:GREGORIAN
METHOD:PUBLISH
X-WR-CALNAME:Fédération Départementale des Foyers Ruraux du Vaucluse
X-ORIGINAL-URL:https://fdfr84.foyersruraux.org
X-WR-CALDESC:évènements pour Fédération Départementale des Foyers Ruraux du Vaucluse
REFRESH-INTERVAL;VALUE=DURATION:PT1H
X-Robots-Tag:noindex
X-PUBLISHED-TTL:PT1H
BEGIN:VTIMEZONE
TZID:Europe/Paris
BEGIN:DAYLIGHT
TZOFFSETFROM:+0100
TZOFFSETTO:+0200
TZNAME:CEST
DTSTART:20250330T010000
END:DAYLIGHT
BEGIN:STANDARD
TZOFFSETFROM:+0200
TZOFFSETTO:+0100
TZNAME:CET
DTSTART:20251026T010000
END:STANDARD
END:VTIMEZONE
BEGIN:VEVENT
DTSTART;TZID=Europe/Paris:20251016T100000
DTEND;TZID=Europe/Paris:20251019T200000
DTSTAMP:20260421T182112
CREATED:20250930T084039Z
LAST-MODIFIED:20250930T084039Z
UID:10000112-1760608800-1760904000@fdfr84.foyersruraux.org
SUMMARY:Le FR de Mormoiron se mobilise pour "Octobre Rose"
DESCRIPTION:Le Foyer Rural de Mormoiron vous attend nombreux !!! Tout le monde peut participer !!!!\n\nAu programme :\n– Jeudi 16 octobre = Zumba 20h à la ruche\n– Vendredi 17 octobre = 19h footing et exercices\, RDV place du clos\n– Samedi 18 octobre matin = sortie vélo à 10h parking choc viande parcours par la via venaissia ( environ 8 km de plat) réalisable sans gros niveau jusqu’à sarrians\n                                 Apres-midi RDV 14h à la ruche pour une sortie balade en famille dans les limons\n– Dimanche 19 octobre = vente de rubans roses sur le marché\n\nParticipation et tenue rose espérée !
URL:https://fdfr84.foyersruraux.org/evenement/le-fr-de-mormoiron-se-mobilise-pour-octobre-rose/
CATEGORIES:Solidarité
ATTACH;FMTTYPE=image/jpeg:https://fdfr84.foyersruraux.org/wp-content/uploads/sites/33/2025/09/555726008_10163431321297866_7867420970413695398_n.jpg
END:VEVENT
BEGIN:VEVENT
DTSTART;VALUE=DATE:20251019
DTEND;VALUE=DATE:20251020
DTSTAMP:20260421T182112
CREATED:20251008T123529Z
LAST-MODIFIED:20251008T123529Z
UID:10000117-1760832000-1760918399@fdfr84.foyersruraux.org
SUMMARY:Sortie culturelle à L'Isle sur la Sorgue - expo "ENGAGEE"
DESCRIPTION:Depuis l’hiver dernier\, le foyer rural “Les AGITES du LOCAL” de Séguret proposent des sorties évasion : théâtre\, visite de jardin remarquable\, exposition … dans le coin ou un peu plus loin.\n\nLes Agités s’occupent de la réservation et un déplacement en covoiturage est mis en place.\n\nEn Octobre\, association vous propose de découvrir l’exposition «ENGAGÉES» de la fondation Villa Datris à l’Isle sur la Sorgue\, (avec visite guidée et gratuite d’une heure).
URL:https://fdfr84.foyersruraux.org/evenement/sortie-culturelle-a-lisle-sur-la-sorgue-expo-engagee/
CATEGORIES:Art § Culture
ATTACH;FMTTYPE=image/jpeg:https://fdfr84.foyersruraux.org/wp-content/uploads/sites/33/2025/10/559924704_1129283322645134_5806571244094884345_n.jpg
END:VEVENT
BEGIN:VEVENT
DTSTART;TZID=Europe/Paris:20251019T083000
DTEND;TZID=Europe/Paris:20251019T120000
DTSTAMP:20260421T182112
CREATED:20251017T075908Z
LAST-MODIFIED:20251017T075922Z
UID:10000130-1760862600-1760875200@fdfr84.foyersruraux.org
SUMMARY:🌳Les RDV RANDOS du dimanche🍄
DESCRIPTION:Retrouvez les marcheurs du foyer rural de Villes sur Auzon ce dimanche 19 octobre 2025 et profitez d’une balade à La Roque sur Pernes
URL:https://fdfr84.foyersruraux.org/evenement/%f0%9f%8c%b3les-rdv-randos-%f0%9f%8d%84/
CATEGORIES:Activité physique
ATTACH;FMTTYPE=image/jpeg:https://fdfr84.foyersruraux.org/wp-content/uploads/sites/33/2025/10/Mourre-Long-2_page-0001-scaled.jpg
END:VEVENT
BEGIN:VEVENT
DTSTART;TZID=Europe/Paris:20251019T100000
DTEND;TZID=Europe/Paris:20251019T123000
DTSTAMP:20260421T182112
CREATED:20251008T122546Z
LAST-MODIFIED:20251008T122546Z
UID:10000116-1760868000-1760877000@fdfr84.foyersruraux.org
SUMMARY:Nouvelle activité à Merindol - Danse Orientale
DESCRIPTION:Le foyer rural de Mérindol vous propose un nouvel atelier mensuel. \nLancement ce dimanche 19 octobre 2025 de 10h à 12h”à à la Maison de la Vie Associative. Toutes les information sont sur l’affiche (dont le contact de l’intervenante). \nVous pouvez aussi contacter l’association sur leur page Facebook : https://www.facebook.com/FRMerindol84/
URL:https://fdfr84.foyersruraux.org/evenement/nouvelle-activite-a-merindol-danse-orientale/
CATEGORIES:Activités
ATTACH;FMTTYPE=image/jpeg:https://fdfr84.foyersruraux.org/wp-content/uploads/sites/33/2025/10/558311162_797893109497458_6361363706616740990_n.jpg
END:VEVENT
BEGIN:VEVENT
DTSTART;TZID=Europe/Paris:20251019T100000
DTEND;TZID=Europe/Paris:20251019T170000
DTSTAMP:20260421T182112
CREATED:20250828T075226Z
LAST-MODIFIED:20250828T075226Z
UID:10000084-1760868000-1760893200@fdfr84.foyersruraux.org
SUMMARY:🎲 La Lub’dique des Taillades – Journée jeux de société
DESCRIPTION:📅 Dimanche 19 octobre 2025 🕙 De 10h à 17h 📍 Maison des Associations – Les Taillades \n1ère Edition : une journée entièrement dédiée aux jeux de société\, à partager en famille\, entre amis ou entre passionnés ! Que vous soyez joueur occasionnel ou stratège confirmé\, La Lub’dique des Taillades vous promet des heures de rires\, de réflexion et de découvertes ludiques. \n🧩 Jeux modernes\, classiques\, coopératifs\, compétitifs… il y en aura pour tous les goûts et tous les âges. \n 🍰 Petite restauration sur place pour reprendre des forces entre deux manches ! \n🎟️ Entrée libre – Ambiance garantie ! \nVenez jouer\, rencontrer\, partager… et surtout vous amuser !
URL:https://fdfr84.foyersruraux.org/evenement/%f0%9f%8e%b2-la-lubdique-des-taillades-journee-jeux-de-societe/
CATEGORIES:Convivialité
ATTACH;FMTTYPE=image/png:https://fdfr84.foyersruraux.org/wp-content/uploads/sites/33/2025/08/Affiche-octobre-2025-A0-sans-sponsors.png
END:VEVENT
BEGIN:VEVENT
DTSTART;TZID=Europe/Paris:20251019T140000
DTEND;TZID=Europe/Paris:20251019T180000
DTSTAMP:20260421T182112
CREATED:20250930T084521Z
LAST-MODIFIED:20250930T084521Z
UID:10000113-1760882400-1760896800@fdfr84.foyersruraux.org
SUMMARY:💃🕺 Après-midi dansant à Caseneuve – Dimanche 19 octobre 2025
DESCRIPTION:Le Cercle de l’Union de Caseneuve vous invite à partager un moment chaleureux lors de son après-midi dansant\, le dimanche 19 octobre à partir de 14h\, dans la salle Constant Delan. \nAu programme : musique\, danse et bonne humeur ! Venez faire quelques pas et profiter de l’ambiance 🎶 \n📍 Ouvert à toutes et tous – ambiance garantie !
URL:https://fdfr84.foyersruraux.org/evenement/%f0%9f%92%83%f0%9f%95%ba-apres-midi-dansant-a-caseneuve-dimanche-19-octobre-2025/
CATEGORIES:Convivialité
ATTACH;FMTTYPE=image/jpeg:https://fdfr84.foyersruraux.org/wp-content/uploads/sites/33/2025/09/555726025_793732943367728_7592777472083559710_n.jpg
END:VEVENT
END:VCALENDAR