BEGIN:VCALENDAR
VERSION:2.0
PRODID:-//Fédération Départementale des Foyers Ruraux du Vaucluse - ECPv6.2.9//NONSGML v1.0//EN
CALSCALE:GREGORIAN
METHOD:PUBLISH
X-WR-CALNAME:Fédération Départementale des Foyers Ruraux du Vaucluse
X-ORIGINAL-URL:https://fdfr84.foyersruraux.org
X-WR-CALDESC:évènements pour Fédération Départementale des Foyers Ruraux du Vaucluse
REFRESH-INTERVAL;VALUE=DURATION:PT1H
X-Robots-Tag:noindex
X-PUBLISHED-TTL:PT1H
BEGIN:VTIMEZONE
TZID:Europe/Paris
BEGIN:DAYLIGHT
TZOFFSETFROM:+0100
TZOFFSETTO:+0200
TZNAME:CEST
DTSTART:20250330T010000
END:DAYLIGHT
BEGIN:STANDARD
TZOFFSETFROM:+0200
TZOFFSETTO:+0100
TZNAME:CET
DTSTART:20251026T010000
END:STANDARD
END:VTIMEZONE
BEGIN:VEVENT
DTSTART;TZID=Europe/Paris:20251107T183000
DTEND;TZID=Europe/Paris:20251107T203000
DTSTAMP:20260421T162834
CREATED:20251015T120714Z
LAST-MODIFIED:20251015T120856Z
UID:10000127-1762540200-1762547400@fdfr84.foyersruraux.org
SUMMARY:🌌« Trous noirs et corps célestes insolites » : Une conférence cosmique
DESCRIPTION:Le Cercle des Lecteurs des Sorgues vous invite à une rencontre passionnante avec Jean-Pierre Luminet\, astrophysicien et écrivain\, autour des mystères de l’univers et de la pensée scientifique. \n📅 Vendredi 7 novembre à 18h30  \n📍 Hôtel Henri – L’Isle-sur-la-Sorgue \nUn moment rare\, ouvert à toutes et tous\, pour explorer les étoiles… et bien plus encore ✨
URL:https://fdfr84.foyersruraux.org/evenement/%f0%9f%8c%8c-trous-noirs-et-corps-celestes-insolites-une-conference-cosmique/
CATEGORIES:Conférence
ATTACH;FMTTYPE=image/jpeg:https://fdfr84.foyersruraux.org/wp-content/uploads/sites/33/2025/10/Projet-Affiche-Flyer-Luminet-version-insta.jpg
END:VEVENT
END:VCALENDAR