BEGIN:VCALENDAR
VERSION:2.0
PRODID:-//Fédération Départementale des Foyers Ruraux du Vaucluse - ECPv6.2.9//NONSGML v1.0//EN
CALSCALE:GREGORIAN
METHOD:PUBLISH
X-ORIGINAL-URL:https://fdfr84.foyersruraux.org
X-WR-CALDESC:évènements pour Fédération Départementale des Foyers Ruraux du Vaucluse
REFRESH-INTERVAL;VALUE=DURATION:PT1H
X-Robots-Tag:noindex
X-PUBLISHED-TTL:PT1H
BEGIN:VTIMEZONE
TZID:Europe/Paris
BEGIN:DAYLIGHT
TZOFFSETFROM:+0100
TZOFFSETTO:+0200
TZNAME:CEST
DTSTART:20250330T010000
END:DAYLIGHT
BEGIN:STANDARD
TZOFFSETFROM:+0200
TZOFFSETTO:+0100
TZNAME:CET
DTSTART:20251026T010000
END:STANDARD
END:VTIMEZONE
BEGIN:VEVENT
DTSTART;TZID=Europe/Paris:20251108T100000
DTEND;TZID=Europe/Paris:20251108T140000
DTSTAMP:20260421T181157
CREATED:20251029T084650Z
LAST-MODIFIED:20251029T084650Z
UID:10000137-1762596000-1762610400@fdfr84.foyersruraux.org
SUMMARY:🥕 Un atelier gourmand et convivial : la cuisine végétarienne\, plaisir garanti !
DESCRIPTION:🍽️  Atelier cuisine végétarienne à Roussillon  \nLe foyer rural Bien Vivre à Roussillon vous invite à un moment gourmand et convivial autour de la cuisine végétarienne\, animé par Adrien\, bénévole passionné ! \n\n📅 Samedi 8 novembre 2025 \n🕙 À 10h \n📍 Salle de l’IGN – Roussillon\n\nAu programme : découverte de recettes savoureuses\, astuces de préparation\, et partage autour d’une alimentation saine et créative 🌿 \n\n💰 Tarif : 8 € \n📞 Inscriptions par téléphone – voir l’affiche pour les coordonnées\n\nPlaces limitées\, pensez à réserver !
URL:https://fdfr84.foyersruraux.org/evenement/%f0%9f%a5%95-un-atelier-gourmand-et-convivial-la-cuisine-vegetarienne-plaisir-garanti/
CATEGORIES:Activités
ATTACH;FMTTYPE=image/jpeg:https://fdfr84.foyersruraux.org/wp-content/uploads/sites/33/2025/10/573075163_10230403051846800_8440682083630866207_n.jpg
END:VEVENT
BEGIN:VEVENT
DTSTART;TZID=Europe/Paris:20251108T190000
DTEND;TZID=Europe/Paris:20251108T233000
DTSTAMP:20260421T181157
CREATED:20251029T090642Z
LAST-MODIFIED:20251106T100738Z
UID:10000138-1762628400-1762644600@fdfr84.foyersruraux.org
SUMMARY:🎶Accords de Saison – La scène ouverte de Séguret fait son grand retour !
DESCRIPTION:Que vous soyez musicien·ne débutant·e ou confirmé·e\, venez jouer\, chanter\, déclamer… ou simplement écouter et vous laisser porter par les vibrations de la soirée 🎤🎸 \n💬 Textes\, mélodies douces (ou pas)\, impros\, reprises… tout est permis pour réchauffer les cœurs  \n🍽️ La team des Agités vous régale avec de quoi manger\, et les boissons locales seront de la partie.  \n\n📅 Samedi 8 novembre 2025\n🕖 De 19h à minuit\n📍 Salle du foyer rural – 131D chemin du Rieu Saint Jean – SEGURET\n💳 Adhésion : 2€\n\n🎉 Ambiance libre\, festive et bienveillante. On vous attend nombreux !
URL:https://fdfr84.foyersruraux.org/evenement/%f0%9f%8e%b6accords-de-saison-la-scene-ouverte-de-seguret-fait-son-grand-retour/
CATEGORIES:Soirée
ATTACH;FMTTYPE=image/jpeg:https://fdfr84.foyersruraux.org/wp-content/uploads/sites/33/2025/10/577734714_2757137461309239_7024390113634649610_n.jpg
END:VEVENT
END:VCALENDAR