BEGIN:VCALENDAR
VERSION:2.0
PRODID:-//Fédération Départementale des Foyers Ruraux du Vaucluse - ECPv6.2.9//NONSGML v1.0//EN
CALSCALE:GREGORIAN
METHOD:PUBLISH
X-WR-CALNAME:Fédération Départementale des Foyers Ruraux du Vaucluse
X-ORIGINAL-URL:https://fdfr84.foyersruraux.org
X-WR-CALDESC:évènements pour Fédération Départementale des Foyers Ruraux du Vaucluse
REFRESH-INTERVAL;VALUE=DURATION:PT1H
X-Robots-Tag:noindex
X-PUBLISHED-TTL:PT1H
BEGIN:VTIMEZONE
TZID:Europe/Paris
BEGIN:DAYLIGHT
TZOFFSETFROM:+0100
TZOFFSETTO:+0200
TZNAME:CEST
DTSTART:20250330T010000
END:DAYLIGHT
BEGIN:STANDARD
TZOFFSETFROM:+0200
TZOFFSETTO:+0100
TZNAME:CET
DTSTART:20251026T010000
END:STANDARD
END:VTIMEZONE
BEGIN:VEVENT
DTSTART;TZID=Europe/Paris:20251115T093000
DTEND;TZID=Europe/Paris:20251115T113000
DTSTAMP:20260421T164131
CREATED:20251111T093452Z
LAST-MODIFIED:20251111T093510Z
UID:10000147-1763199000-1763206200@fdfr84.foyersruraux.org
SUMMARY:🚑 Apprenez les gestes qui sauvent à Momoiron
DESCRIPTION:Le Foyer Rural de Mormoiron\, en partenariat avec l’ANIMS\, vous propose des sessions gratuites à la Ruche de Mormoiron pour apprendre à réagir face aux situations d’urgence. \n📅 Adultes : samedi 15 novembre 2025 de 9h30 à 11h30 à la salle foyer du clos \n👦 Enfants dès 10 ans : prochaine session à venir (date à définir) \n👉 Sur inscription – places limitées !  \nUn rendez-vous citoyen et solidaire pour toute la famille.
URL:https://fdfr84.foyersruraux.org/evenement/%f0%9f%9a%91-apprenez-les-gestes-qui-sauvent-a-momoiron/
CATEGORIES:Formation
ATTACH;FMTTYPE=image/jpeg:https://fdfr84.foyersruraux.org/wp-content/uploads/sites/33/2025/11/581880477_1466770915456544_4284416219385296049_n.jpg
END:VEVENT
BEGIN:VEVENT
DTSTART;TZID=Europe/Paris:20251115T140000
DTEND;TZID=Europe/Paris:20251115T163000
DTSTAMP:20260421T164131
CREATED:20251106T115339Z
LAST-MODIFIED:20251106T115339Z
UID:10000145-1763215200-1763224200@fdfr84.foyersruraux.org
SUMMARY:🎤 "Chante Ménerbes !" – Après-midi Karaoké
DESCRIPTION:Le Foyer Rural de Ménerbes vous invite à pousser la chansonnette lors d’un après-midi karaoké placé sous le signe de la bonne humeur et du partage ! \n🎶 Que vous soyez diva du dimanche\, crooner en herbe ou simple amateur de refrains entraînants\, venez chanter vos titres préférés dans une ambiance détendue et festive. \n🧁 Une pause gourmande sera proposée pour prolonger le plaisir en toute convivialité. \n📅 Samedi 15 novembre 2025 🕑 De 14h à 16h 📍 Salle polyvalente de Ménerbes \n📌 Entrée libre – Ouvert à tous\, petits et grands 🎙️ Micro ouvert\, sourires garantis !
URL:https://fdfr84.foyersruraux.org/evenement/%f0%9f%8e%a4-chante-menerbes-apres-midi-karaoke/
CATEGORIES:Idées sorties pour le week-end
ATTACH;FMTTYPE=image/jpeg:https://fdfr84.foyersruraux.org/wp-content/uploads/sites/33/2025/11/574511832_17881563285408996_5904929681057424540_n.jpg
END:VEVENT
BEGIN:VEVENT
DTSTART;TZID=Europe/Paris:20251115T140000
DTEND;TZID=Europe/Paris:20251115T170000
DTSTAMP:20260421T164131
CREATED:20251111T092422Z
LAST-MODIFIED:20251111T092422Z
UID:10000146-1763215200-1763226000@fdfr84.foyersruraux.org
SUMMARY:Ateliers créatifs et intergénérationnel à Séguret
DESCRIPTION:Les Agités du Local – Foyer Rural de Séguret organise un atelier intergénérationnel pour des après-midi ludiques.\n\n\n\nLe 1er rendez-vous avec Amélie Berthéas sera le samedi 15 novembre au Foyer rural de 14h à 17h (avec goûter partagé). Cet atelier est ouvert à tous à partir de 5 ans.\n\n\n\nLe 15 novembre\, vos mains bidouilleront l’argile pour créer des petits objets de déco.
URL:https://fdfr84.foyersruraux.org/evenement/ateliers-creatifs-et-intergenerationnel-a-seguret/
CATEGORIES:Activités
ATTACH;FMTTYPE=image/jpeg:https://fdfr84.foyersruraux.org/wp-content/uploads/sites/33/2025/11/577910015_2911219989266837_2954243582595135649_n.jpg
END:VEVENT
BEGIN:VEVENT
DTSTART;TZID=Europe/Paris:20251115T150000
DTEND;TZID=Europe/Paris:20251116T180000
DTSTAMP:20260421T164131
CREATED:20251106T101948Z
LAST-MODIFIED:20251106T101948Z
UID:10000141-1763218800-1763316000@fdfr84.foyersruraux.org
SUMMARY:Stage poterie : venez mettre la main à la pâte à Mérindol!
DESCRIPTION:Le Foyer Rural de Mérindol vous invite à découvrir l’art du tournage en poterie lors d’un stage de deux après-midis\, animé par une intervenante passionnée. Que vous soyez débutant curieux ou amateur confirmé\, ce moment est l’occasion idéale pour mettre les mains dans la terre\, apprendre les gestes essentiels du tour et créer vos propres pièces. \n🎨 Stage de Tour de Poterie à Mérindol \n📅 Les 15 et 16 novembre 2025  \n🕒 De 15h à 18h  \n📍 Maison des Associations – Ménerbes \n👐 Ce stage est ouvert à tous\, dans une ambiance conviviale et créative. 🎯 Objectif : découvrir\, expérimenter\, partager… et repartir avec une réalisation personnelle ! \n📌 Places limitées – pensez à vous inscrire rapidement !
URL:https://fdfr84.foyersruraux.org/evenement/stage-poterie-venez-mettre-la-main-a-la-pate-a-merindol/
CATEGORIES:Activités
ATTACH;FMTTYPE=image/jpeg:https://fdfr84.foyersruraux.org/wp-content/uploads/sites/33/2025/11/577319449_823904613562974_5697020505440349690_n.jpg
END:VEVENT
END:VCALENDAR