BEGIN:VCALENDAR
VERSION:2.0
PRODID:-//Fédération Départementale des Foyers Ruraux du Vaucluse - ECPv6.2.9//NONSGML v1.0//EN
CALSCALE:GREGORIAN
METHOD:PUBLISH
X-ORIGINAL-URL:https://fdfr84.foyersruraux.org
X-WR-CALDESC:évènements pour Fédération Départementale des Foyers Ruraux du Vaucluse
REFRESH-INTERVAL;VALUE=DURATION:PT1H
X-Robots-Tag:noindex
X-PUBLISHED-TTL:PT1H
BEGIN:VTIMEZONE
TZID:Europe/Paris
BEGIN:DAYLIGHT
TZOFFSETFROM:+0100
TZOFFSETTO:+0200
TZNAME:CEST
DTSTART:20250330T010000
END:DAYLIGHT
BEGIN:STANDARD
TZOFFSETFROM:+0200
TZOFFSETTO:+0100
TZNAME:CET
DTSTART:20251026T010000
END:STANDARD
END:VTIMEZONE
BEGIN:VEVENT
DTSTART;TZID=Europe/Paris:20251122T180000
DTEND;TZID=Europe/Paris:20251122T220000
DTSTAMP:20260421T163206
CREATED:20251106T112957Z
LAST-MODIFIED:20251106T112957Z
UID:10000144-1763834400-1763848800@fdfr84.foyersruraux.org
SUMMARY:🎲 Jeux m’amuse avec le foyer rural de Ménerbes ...
DESCRIPTION:Le Foyer Rural de Ménerbes vous invite à une soirée placée sous le signe du jeu\, du partage et de la bonne humeur !\n\n\n\n L’entrée est gratuite : chacun apporte un jeu de société ou un jeu de cartes\, ainsi que son panier repas pour dîner ensemble dans une ambiance chaleureuse.\n\n\n\n Venez entre amis\, en famille\, entre voisins… et faites tourner les dés de la convivialité !\n\n\n\n Soirée Jeux à Ménerbes !\n Samedi 22 novembre 2025\n À partir de 18h\n Salle polyvalente de Ménerbes
URL:https://fdfr84.foyersruraux.org/evenement/%f0%9f%8e%b2-jeux-mamuse-avec-le-foyer-rural-de-menerbes-2/
CATEGORIES:Soirée
ATTACH;FMTTYPE=image/jpeg:https://fdfr84.foyersruraux.org/wp-content/uploads/sites/33/2025/11/573804602_17880736398408996_4378947980363964544_n.jpg
END:VEVENT
END:VCALENDAR