BEGIN:VCALENDAR
VERSION:2.0
PRODID:-//Fédération Départementale des Foyers Ruraux du Vaucluse - ECPv6.2.9//NONSGML v1.0//EN
CALSCALE:GREGORIAN
METHOD:PUBLISH
X-ORIGINAL-URL:https://fdfr84.foyersruraux.org
X-WR-CALDESC:évènements pour Fédération Départementale des Foyers Ruraux du Vaucluse
REFRESH-INTERVAL;VALUE=DURATION:PT1H
X-Robots-Tag:noindex
X-PUBLISHED-TTL:PT1H
BEGIN:VTIMEZONE
TZID:Europe/Paris
BEGIN:DAYLIGHT
TZOFFSETFROM:+0100
TZOFFSETTO:+0200
TZNAME:CEST
DTSTART:20250330T010000
END:DAYLIGHT
BEGIN:STANDARD
TZOFFSETFROM:+0200
TZOFFSETTO:+0100
TZNAME:CET
DTSTART:20251026T010000
END:STANDARD
END:VTIMEZONE
BEGIN:VEVENT
DTSTART;TZID=Europe/Paris:20251126T143000
DTEND;TZID=Europe/Paris:20251126T160000
DTSTAMP:20260421T163206
CREATED:20251121T115602Z
LAST-MODIFIED:20251121T115602Z
UID:10000151-1764167400-1764172800@fdfr84.foyersruraux.org
SUMMARY:Atelier créatif avec le foyer rural de Mormoiron
DESCRIPTION:Prochain rdv mercredi 26 novembre et le mercredi 17 décembre ateliers mixtes adultes /enfants\n\nVenez préparer les fêtes avec composition florale pour les adultes et ateliers cadeaux deco pour les enfants !\n\nPlus d’infos sur l’atelier du 17 décembre prochainement mais en attendant rdv le 26 pour les petites mains ( à partir de 8 ans )
URL:https://fdfr84.foyersruraux.org/evenement/atelier-creatif-avec-le-foyer-rural-de-mormoiron/
CATEGORIES:Activités
ATTACH;FMTTYPE=image/jpeg:https://fdfr84.foyersruraux.org/wp-content/uploads/sites/33/2025/11/585550302_1474827624650873_4846326102646418196_n.jpg
END:VEVENT
END:VCALENDAR