BEGIN:VCALENDAR
VERSION:2.0
PRODID:-//Fédération Départementale des Foyers Ruraux du Vaucluse - ECPv6.2.9//NONSGML v1.0//EN
CALSCALE:GREGORIAN
METHOD:PUBLISH
X-ORIGINAL-URL:https://fdfr84.foyersruraux.org
X-WR-CALDESC:évènements pour Fédération Départementale des Foyers Ruraux du Vaucluse
REFRESH-INTERVAL;VALUE=DURATION:PT1H
X-Robots-Tag:noindex
X-PUBLISHED-TTL:PT1H
BEGIN:VTIMEZONE
TZID:Europe/Paris
BEGIN:DAYLIGHT
TZOFFSETFROM:+0100
TZOFFSETTO:+0200
TZNAME:CEST
DTSTART:20250330T010000
END:DAYLIGHT
BEGIN:STANDARD
TZOFFSETFROM:+0200
TZOFFSETTO:+0100
TZNAME:CET
DTSTART:20251026T010000
END:STANDARD
END:VTIMEZONE
BEGIN:VEVENT
DTSTART;TZID=Europe/Paris:20251129T080000
DTEND;TZID=Europe/Paris:20251129T170000
DTSTAMP:20260421T163007
CREATED:20251015T152841Z
LAST-MODIFIED:20251106T114623Z
UID:10000129-1764403200-1764435600@fdfr84.foyersruraux.org
SUMMARY:🍽️"Livres et Gastronomie"- Concours gourmand à Merindol: l’enfance dans l’assiette
DESCRIPTION:À l’occasion du Salon Livres & Gastronomie\, Mérindol Culture organise un concours de cuisine amateur le samedi 29 novembre 2025. \n🎂 Thème : Souvenir d’enfance\, Remettez au goût du jour les recettes qui ont marqué votre jeunesse \n👩‍🍳 La cheffe étoilée Georgiana Viou\, accompagnée d’Yves Camdeborde\, présidera le jury. \n📆 Inscriptions jusqu’au 15 novembre / 📱 Infos : 06 77 21 86 66 \nQue vous soyez passionné·e ou simple gourmand·e\, venez partager vos souvenirs et votre talent !
URL:https://fdfr84.foyersruraux.org/evenement/%f0%9f%8d%bd%ef%b8%8flivres-et-gastronomie-concours-gourmand-a-merindol-lenfance-dans-lassiette/
CATEGORIES:Autour du livre ...
ATTACH;FMTTYPE=image/jpeg:https://fdfr84.foyersruraux.org/wp-content/uploads/sites/33/2025/10/556239259_805449561879879_4737600955492980674_n.jpg
END:VEVENT
END:VCALENDAR