BEGIN:VCALENDAR
VERSION:2.0
PRODID:-//Fédération Départementale des Foyers Ruraux du Vaucluse - ECPv6.2.9//NONSGML v1.0//EN
CALSCALE:GREGORIAN
METHOD:PUBLISH
X-ORIGINAL-URL:https://fdfr84.foyersruraux.org
X-WR-CALDESC:évènements pour Fédération Départementale des Foyers Ruraux du Vaucluse
REFRESH-INTERVAL;VALUE=DURATION:PT1H
X-Robots-Tag:noindex
X-PUBLISHED-TTL:PT1H
BEGIN:VTIMEZONE
TZID:Europe/Paris
BEGIN:DAYLIGHT
TZOFFSETFROM:+0100
TZOFFSETTO:+0200
TZNAME:CEST
DTSTART:20250330T010000
END:DAYLIGHT
BEGIN:STANDARD
TZOFFSETFROM:+0200
TZOFFSETTO:+0100
TZNAME:CET
DTSTART:20251026T010000
END:STANDARD
END:VTIMEZONE
BEGIN:VEVENT
DTSTART;TZID=Europe/Paris:20251210T120000
DTEND;TZID=Europe/Paris:20251210T143000
DTSTAMP:20260421T145326
CREATED:20251208T113103Z
LAST-MODIFIED:20251208T113103Z
UID:10000163-1765368000-1765377000@fdfr84.foyersruraux.org
SUMMARY:🍽 Le "Cercle d'hiver" de Lacoste
DESCRIPTION:Le Foyer Rural de Lacoste vous invite à partager un repas chaleureux en période hivernale. Rendez-vous : \n\n📅 Mercredi 10 décembre 2025 \n🕛 De 12h à 14h30 \n📍 La Cure – Place de l’Église\, Lacoste\n\nAu menu préparé avec passion par nos bénévoles : \n\n🥘 Sauté de veau et ses légumes de saison\n🍫 Mousse au chocolat maison\n\nUn rendez-vous convivial pour se retrouver autour d’un bon repas et soutenir la vie associative du village. \n👉 Réservations et informations : Sylvie – 06.72.20.55.22
URL:https://fdfr84.foyersruraux.org/evenement/%f0%9f%8d%bd-le-cercle-dhiver-de-lacoste/
CATEGORIES:Convivialité
ATTACH;FMTTYPE=image/jpeg:https://fdfr84.foyersruraux.org/wp-content/uploads/sites/33/2025/12/52500b_9351b884a4564705889df44f8fc47138_mv2.jpg
END:VEVENT
BEGIN:VEVENT
DTSTART;TZID=Europe/Paris:20251210T150000
DTEND;TZID=Europe/Paris:20251210T160000
DTSTAMP:20260421T145326
CREATED:20251205T092500Z
LAST-MODIFIED:20251205T092500Z
UID:10000155-1765378800-1765382400@fdfr84.foyersruraux.org
SUMMARY:📢 Spectacle pour enfants à Cheval Blanc !
DESCRIPTION:Le Foyer Rural de Cheval Blanc  invite les enfants/familles adhérentes le mercredi 10 décembre 2025 à 15h à la salle des Moulins pour un spectacle gratuit\, ouvert à tous les enfants (idéal pour les 3–12 ans). \n\n👨‍👩‍👧‍👦 Les parents et frères/sœurs peuvent aussi assister (en retrait).\n⏰ Durée : 30 à 45 min \n🚪 Ouverture des portes : 14h45 \n🎟 Pas de réservation nécessaire !\n\nVenez partager un moment de magie et de convivialité en famille ✨
URL:https://fdfr84.foyersruraux.org/evenement/%f0%9f%93%a2-spectacle-pour-enfants-a-cheval-blanc/
CATEGORIES:En famille ...,Spectacle
ATTACH;FMTTYPE=image/jpeg:https://fdfr84.foyersruraux.org/wp-content/uploads/sites/33/2025/12/594861552_1176405201289845_962342794506200493_n.jpg
END:VEVENT
END:VCALENDAR