BEGIN:VCALENDAR
VERSION:2.0
PRODID:-//Fédération Départementale des Foyers Ruraux du Vaucluse - ECPv6.2.9//NONSGML v1.0//EN
CALSCALE:GREGORIAN
METHOD:PUBLISH
X-ORIGINAL-URL:https://fdfr84.foyersruraux.org
X-WR-CALDESC:évènements pour Fédération Départementale des Foyers Ruraux du Vaucluse
REFRESH-INTERVAL;VALUE=DURATION:PT1H
X-Robots-Tag:noindex
X-PUBLISHED-TTL:PT1H
BEGIN:VTIMEZONE
TZID:Europe/Paris
BEGIN:DAYLIGHT
TZOFFSETFROM:+0100
TZOFFSETTO:+0200
TZNAME:CEST
DTSTART:20250330T010000
END:DAYLIGHT
BEGIN:STANDARD
TZOFFSETFROM:+0200
TZOFFSETTO:+0100
TZNAME:CET
DTSTART:20251026T010000
END:STANDARD
END:VTIMEZONE
BEGIN:VEVENT
DTSTART;TZID=Europe/Paris:20251211T190000
DTEND;TZID=Europe/Paris:20251211T230000
DTSTAMP:20260421T145334
CREATED:20251121T121013Z
LAST-MODIFIED:20251121T121013Z
UID:10000153-1765479600-1765494000@fdfr84.foyersruraux.org
SUMMARY:Repas de Noël - le FR Bien vivre à Roussillon invite ses adhérents
DESCRIPTION:
URL:https://fdfr84.foyersruraux.org/evenement/repas-de-noel-le-fr-bien-vivre-a-roussillon-invite-ses-adherents/
CATEGORIES:Convivialité
ATTACH;FMTTYPE=image/jpeg:https://fdfr84.foyersruraux.org/wp-content/uploads/sites/33/2025/11/585346469_10230659691262625_5839986437182944882_n.jpg
END:VEVENT
END:VCALENDAR