BEGIN:VCALENDAR
VERSION:2.0
PRODID:-//Fédération Départementale des Foyers Ruraux du Vaucluse - ECPv6.2.9//NONSGML v1.0//EN
CALSCALE:GREGORIAN
METHOD:PUBLISH
X-WR-CALNAME:Fédération Départementale des Foyers Ruraux du Vaucluse
X-ORIGINAL-URL:https://fdfr84.foyersruraux.org
X-WR-CALDESC:évènements pour Fédération Départementale des Foyers Ruraux du Vaucluse
REFRESH-INTERVAL;VALUE=DURATION:PT1H
X-Robots-Tag:noindex
X-PUBLISHED-TTL:PT1H
BEGIN:VTIMEZONE
TZID:Europe/Paris
BEGIN:DAYLIGHT
TZOFFSETFROM:+0100
TZOFFSETTO:+0200
TZNAME:CEST
DTSTART:20250330T010000
END:DAYLIGHT
BEGIN:STANDARD
TZOFFSETFROM:+0200
TZOFFSETTO:+0100
TZNAME:CET
DTSTART:20251026T010000
END:STANDARD
END:VTIMEZONE
BEGIN:VEVENT
DTSTART;TZID=Europe/Paris:20251213T140000
DTEND;TZID=Europe/Paris:20251213T160000
DTSTAMP:20260421T145123
CREATED:20251205T095312Z
LAST-MODIFIED:20251205T095951Z
UID:10000161-1765634400-1765641600@fdfr84.foyersruraux.org
SUMMARY:🎤 “Chante Ménerbes !” – Après-midi Karaoké
DESCRIPTION:Le Foyer Rural de Ménerbes vous invite à pousser la chansonnette lors d’un après-midi karaoké placé sous le signe de la bonne humeur et du partage ! \n🎶 Que vous soyez diva du dimanche\, crooner en herbe ou simple amateur de refrains entraînants\, venez chanter vos titres préférés dans une ambiance détendue et festive. \n🧁 Une pause gourmande sera proposée pour prolonger le plaisir en toute convivialité. \n\n📅 Samedi 13 décembre 2025 \n🕑 De 14h à 16h \n📍 Salle polyvalente de Ménerbes\n\n📌 Entrée libre – Ouvert à tous\, petits et grands 🎙️ Micro ouvert\, sourires garantis !
URL:https://fdfr84.foyersruraux.org/evenement/%f0%9f%8e%a4-chante-menerbes-apres-midi-karaoke-2/
CATEGORIES:Idées sorties pour le week-end
ATTACH;FMTTYPE=image/jpeg:https://fdfr84.foyersruraux.org/wp-content/uploads/sites/33/2025/12/593871762_10239123560938443_5087529953582706712_n.jpg
END:VEVENT
BEGIN:VEVENT
DTSTART;TZID=Europe/Paris:20251213T190000
DTEND;TZID=Europe/Paris:20251213T230000
DTSTAMP:20260421T145123
CREATED:20251205T092841Z
LAST-MODIFIED:20251205T092841Z
UID:10000156-1765652400-1765666800@fdfr84.foyersruraux.org
SUMMARY:Soirée Jeux de Société à Robion
DESCRIPTION:Le Foyer Rural vous invite à une grande soirée “jeux de société” ouverte à tous ! Au programme : un apéro dinatoire partagé et des parties endiablées pour petits et grands. \n\n📅 Samedi 13 décembre 2025 \n🕖 19h \n📍 Salle de l’Eden – Robion\n\n👨‍👩‍👧‍👦 Les enfants et ados sont les bienvenus : ils joueront aux côtés de leurs parents dans une ambiance chaleureuse et familiale. \nVenez passer un moment convivial\, découvrir de nouveaux jeux et partager le plaisir de jouer ensemble ! 🎲✨
URL:https://fdfr84.foyersruraux.org/evenement/soiree-jeux-de-societe-a-robion/
CATEGORIES:Idées sorties pour le week-end
ATTACH;FMTTYPE=image/jpeg:https://fdfr84.foyersruraux.org/wp-content/uploads/sites/33/2025/12/591886751_1361194939005404_7814890914350598725_n.jpg
END:VEVENT
END:VCALENDAR