BEGIN:VCALENDAR
VERSION:2.0
PRODID:-//Fédération Départementale des Foyers Ruraux du Vaucluse - ECPv6.2.9//NONSGML v1.0//EN
CALSCALE:GREGORIAN
METHOD:PUBLISH
X-WR-CALNAME:Fédération Départementale des Foyers Ruraux du Vaucluse
X-ORIGINAL-URL:https://fdfr84.foyersruraux.org
X-WR-CALDESC:évènements pour Fédération Départementale des Foyers Ruraux du Vaucluse
REFRESH-INTERVAL;VALUE=DURATION:PT1H
X-Robots-Tag:noindex
X-PUBLISHED-TTL:PT1H
BEGIN:VTIMEZONE
TZID:Europe/Paris
BEGIN:DAYLIGHT
TZOFFSETFROM:+0100
TZOFFSETTO:+0200
TZNAME:CEST
DTSTART:20250330T010000
END:DAYLIGHT
BEGIN:STANDARD
TZOFFSETFROM:+0200
TZOFFSETTO:+0100
TZNAME:CET
DTSTART:20251026T010000
END:STANDARD
END:VTIMEZONE
BEGIN:VEVENT
DTSTART;TZID=Europe/Paris:20251217T143000
DTEND;TZID=Europe/Paris:20251217T160000
DTSTAMP:20260421T145002
CREATED:20251209T103907Z
LAST-MODIFIED:20251209T103907Z
UID:10000165-1765981800-1765987200@fdfr84.foyersruraux.org
SUMMARY:🎄Après-midi créative de Noël à Mormoiron✨
DESCRIPTION:Mercredi 17 décembre 2026 à la ruche\, le foyer de Mormoiron vous propose des ateliers créatifs multigénérationnels de Noël. \nPour les « grands »🤪création de vos centres de tables\, pendant que les enfants confectionneront des décorations de sapin ou des petits cadeaux ☺️ \n\nParticipation enfant 5 €\nAdultes 15 € pour les fleurs\nSur inscription par message \n\nPour les confections florales pensez à emmener un bol ou plat pour accueillir votre composition\, feuillage\, bougies\, ce qui vous fera plaisir dans votre déco ! 
URL:https://fdfr84.foyersruraux.org/evenement/%f0%9f%8e%84apres-midi-creative-de-noel-a-mormoiron%e2%9c%a8/
CATEGORIES:Activités
ATTACH;FMTTYPE=image/jpeg:https://fdfr84.foyersruraux.org/wp-content/uploads/sites/33/2025/12/597861259_1491560369644265_3273228044813226145_n.jpg
END:VEVENT
END:VCALENDAR