BEGIN:VCALENDAR
VERSION:2.0
PRODID:-//Fédération Départementale des Foyers Ruraux du Vaucluse - ECPv6.2.9//NONSGML v1.0//EN
CALSCALE:GREGORIAN
METHOD:PUBLISH
X-WR-CALNAME:Fédération Départementale des Foyers Ruraux du Vaucluse
X-ORIGINAL-URL:https://fdfr84.foyersruraux.org
X-WR-CALDESC:évènements pour Fédération Départementale des Foyers Ruraux du Vaucluse
REFRESH-INTERVAL;VALUE=DURATION:PT1H
X-Robots-Tag:noindex
X-PUBLISHED-TTL:PT1H
BEGIN:VTIMEZONE
TZID:Europe/Paris
BEGIN:DAYLIGHT
TZOFFSETFROM:+0100
TZOFFSETTO:+0200
TZNAME:CEST
DTSTART:20260329T010000
END:DAYLIGHT
BEGIN:STANDARD
TZOFFSETFROM:+0200
TZOFFSETTO:+0100
TZNAME:CET
DTSTART:20261025T010000
END:STANDARD
END:VTIMEZONE
BEGIN:VEVENT
DTSTART;TZID=Europe/Paris:20260402T133000
DTEND;TZID=Europe/Paris:20260402T170000
DTSTAMP:20260421T023337
CREATED:20260331T084206Z
LAST-MODIFIED:20260331T084206Z
UID:10000169-1775136600-1775149200@fdfr84.foyersruraux.org
SUMMARY:Journée de l'engagement jeunesse
DESCRIPTION:Attention changement de lieu !!\n\n\n\nSuite aux prévisions météorologiques ( rafale de vent à 80 km /heure ) \, la journée de l’engagement du 2 Avril sera déplacée\nà la Salle des Fêtes de l’Isle sur la Sorgue ( de 13h30 à 17h )\n\n\n\nAvenue Napoléon Bonaparte\n84800 Isle sur La Sorgue .
URL:https://fdfr84.foyersruraux.org/evenement/journee-de-lengagement-jeunesse/
CATEGORIES:Jeunesse
END:VEVENT
END:VCALENDAR