BEGIN:VCALENDAR
VERSION:2.0
PRODID:-//Fédération Départementale des Foyers Ruraux du Vaucluse - ECPv6.2.9//NONSGML v1.0//EN
CALSCALE:GREGORIAN
METHOD:PUBLISH
X-ORIGINAL-URL:https://fdfr84.foyersruraux.org
X-WR-CALDESC:évènements pour Fédération Départementale des Foyers Ruraux du Vaucluse
REFRESH-INTERVAL;VALUE=DURATION:PT1H
X-Robots-Tag:noindex
X-PUBLISHED-TTL:PT1H
BEGIN:VTIMEZONE
TZID:Europe/Paris
BEGIN:DAYLIGHT
TZOFFSETFROM:+0100
TZOFFSETTO:+0200
TZNAME:CEST
DTSTART:20250330T010000
END:DAYLIGHT
BEGIN:STANDARD
TZOFFSETFROM:+0200
TZOFFSETTO:+0100
TZNAME:CET
DTSTART:20251026T010000
END:STANDARD
END:VTIMEZONE
BEGIN:VEVENT
DTSTART;VALUE=DATE:20251019
DTEND;VALUE=DATE:20251020
DTSTAMP:20260422T094425
CREATED:20251008T123529Z
LAST-MODIFIED:20251008T123529Z
UID:10000117-1760832000-1760918399@fdfr84.foyersruraux.org
SUMMARY:Sortie culturelle à L'Isle sur la Sorgue - expo "ENGAGEE"
DESCRIPTION:Depuis l’hiver dernier\, le foyer rural “Les AGITES du LOCAL” de Séguret proposent des sorties évasion : théâtre\, visite de jardin remarquable\, exposition … dans le coin ou un peu plus loin.\n\nLes Agités s’occupent de la réservation et un déplacement en covoiturage est mis en place.\n\nEn Octobre\, association vous propose de découvrir l’exposition «ENGAGÉES» de la fondation Villa Datris à l’Isle sur la Sorgue\, (avec visite guidée et gratuite d’une heure).
URL:https://fdfr84.foyersruraux.org/evenement/sortie-culturelle-a-lisle-sur-la-sorgue-expo-engagee/
CATEGORIES:Art § Culture
ATTACH;FMTTYPE=image/jpeg:https://fdfr84.foyersruraux.org/wp-content/uploads/sites/33/2025/10/559924704_1129283322645134_5806571244094884345_n.jpg
END:VEVENT
END:VCALENDAR