BEGIN:VCALENDAR
VERSION:2.0
PRODID:-//Fédération Départementale des Foyers Ruraux du Vaucluse - ECPv6.2.9//NONSGML v1.0//EN
CALSCALE:GREGORIAN
METHOD:PUBLISH
X-WR-CALNAME:Fédération Départementale des Foyers Ruraux du Vaucluse
X-ORIGINAL-URL:https://fdfr84.foyersruraux.org
X-WR-CALDESC:évènements pour Fédération Départementale des Foyers Ruraux du Vaucluse
REFRESH-INTERVAL;VALUE=DURATION:PT1H
X-Robots-Tag:noindex
X-PUBLISHED-TTL:PT1H
BEGIN:VTIMEZONE
TZID:Europe/Paris
BEGIN:DAYLIGHT
TZOFFSETFROM:+0100
TZOFFSETTO:+0200
TZNAME:CEST
DTSTART:20250330T010000
END:DAYLIGHT
BEGIN:STANDARD
TZOFFSETFROM:+0200
TZOFFSETTO:+0100
TZNAME:CET
DTSTART:20251026T010000
END:STANDARD
END:VTIMEZONE
BEGIN:VEVENT
DTSTART;TZID=Europe/Paris:20250927T100000
DTEND;TZID=Europe/Paris:20250927T170000
DTSTAMP:20260421T210610
CREATED:20250915T080415Z
LAST-MODIFIED:20250915T080415Z
UID:10000096-1758967200-1758992400@fdfr84.foyersruraux.org
SUMMARY:Journée des nouveaux écrivants
DESCRIPTION:Envie de voyager sans bouger ? De partager des émotions\, des idées\, des passions … l’association du Cercle des lecteurs des Sorgues vous ouvre ses pages… et ses bras !\n\n\n\n Venez leur rendre visite lors de la Journée des Nouveaux Ecrivants qui aura lieu le samedi 27 Septembre au Grand Hôtel Henri de 10h à 17h à L’Isle sur la Sorgue.\n\n\n\n Vous rejoindrez une communauté chaleureuse où les mots résonnent\, les livres s’animent\, et les échanges nourrissent l’esprit : lectures partagées\, débats vivants\, découvertes littéraires et moments conviviaux vous attendent.\n\n\n\n Que vous soyez lecteur assidu\, curieux occasionnel ou simplement en quête de rencontres inspirantes\, venez tourner la page avec cette association …
URL:https://fdfr84.foyersruraux.org/evenement/journee-des-nouveaux-ecrivants/
CATEGORIES:Autour du livre ...
ATTACH;FMTTYPE=image/jpeg:https://fdfr84.foyersruraux.org/wp-content/uploads/sites/33/2025/09/01-Affiche-AOUT-2025_page-00011-scaled.jpg
END:VEVENT
END:VCALENDAR