BEGIN:VCALENDAR
VERSION:2.0
PRODID:-//Fédération Départementale des Foyers Ruraux du Vaucluse - ECPv6.2.9//NONSGML v1.0//EN
CALSCALE:GREGORIAN
METHOD:PUBLISH
X-WR-CALNAME:Fédération Départementale des Foyers Ruraux du Vaucluse
X-ORIGINAL-URL:https://fdfr84.foyersruraux.org
X-WR-CALDESC:évènements pour Fédération Départementale des Foyers Ruraux du Vaucluse
REFRESH-INTERVAL;VALUE=DURATION:PT1H
X-Robots-Tag:noindex
X-PUBLISHED-TTL:PT1H
BEGIN:VTIMEZONE
TZID:Europe/Paris
BEGIN:DAYLIGHT
TZOFFSETFROM:+0100
TZOFFSETTO:+0200
TZNAME:CEST
DTSTART:20250330T010000
END:DAYLIGHT
BEGIN:STANDARD
TZOFFSETFROM:+0200
TZOFFSETTO:+0100
TZNAME:CET
DTSTART:20251026T010000
END:STANDARD
END:VTIMEZONE
BEGIN:VEVENT
DTSTART;VALUE=DATE:20251206
DTEND;VALUE=DATE:20251208
DTSTAMP:20260421T172427
CREATED:20251121T120709Z
LAST-MODIFIED:20251121T120709Z
UID:10000152-1764979200-1765151999@fdfr84.foyersruraux.org
SUMMARY:📚 Week-end Librairie Éphémère à Menerbes : venez jouer\, lire\, créer !
DESCRIPTION:Le Foyer Rural de Ménerbes\, en partenariat avec la Librairie Fontaine (Apt) et Le Passeur de l’Isle\, vous invite à un week-end placé sous le signe des livres\, du jeu et de la création ! \n\n📅 Samedi 6 & dimanche 7 décembre 2025 \n🕚 De 11h à 18h \n📍 Salle polyvalente de Ménerbes\n\n👉 Au programme : \n\nSamedi après-midi (14h–16h) : 🎲 Jeux de société pour petits et grands\, suivis d’un goûter convivial.\nDimanche (10h–16h) : ✍️ Atelier d’écriture de saynètes de théâtre animé par deux intervenants professionnels.\n\n  \n📌 Entrée libre – Venez nombreux !
URL:https://fdfr84.foyersruraux.org/evenement/%f0%9f%93%9a-week-end-librairie-ephemere-a-menerbes-venez-jouer-lire-creer/
CATEGORIES:Autour du livre ...
ATTACH;FMTTYPE=image/jpeg:https://fdfr84.foyersruraux.org/wp-content/uploads/sites/33/2025/11/575557146_17991838490892809_3812590008754645506_n.jpg
END:VEVENT
END:VCALENDAR