BEGIN:VCALENDAR
VERSION:2.0
PRODID:-//Fédération Départementale des Foyers Ruraux du Vaucluse - ECPv6.2.9//NONSGML v1.0//EN
CALSCALE:GREGORIAN
METHOD:PUBLISH
X-ORIGINAL-URL:https://fdfr84.foyersruraux.org
X-WR-CALDESC:évènements pour Fédération Départementale des Foyers Ruraux du Vaucluse
REFRESH-INTERVAL;VALUE=DURATION:PT1H
X-Robots-Tag:noindex
X-PUBLISHED-TTL:PT1H
BEGIN:VTIMEZONE
TZID:Europe/Paris
BEGIN:DAYLIGHT
TZOFFSETFROM:+0100
TZOFFSETTO:+0200
TZNAME:CEST
DTSTART:20250330T010000
END:DAYLIGHT
BEGIN:STANDARD
TZOFFSETFROM:+0200
TZOFFSETTO:+0100
TZNAME:CET
DTSTART:20251026T010000
END:STANDARD
END:VTIMEZONE
BEGIN:VEVENT
DTSTART;TZID=Europe/Paris:20251030T080000
DTEND;TZID=Europe/Paris:20251030T170000
DTSTAMP:20260422T061550
CREATED:20251030T122123Z
LAST-MODIFIED:20251030T122123Z
UID:10000140-1761811200-1761843600@fdfr84.foyersruraux.org
SUMMARY:🎤 Demain soir à Robion : Les 3 Nanas en concert !
DESCRIPTION:📅 Vendredi 31 octobre 2025 🕘 21h 📍 Salle de l’Eden – Robion \nElles sont pétillantes\, complices et pleines d’énergie… Les 3 Nanas vous donnent rendez-vous pour une soirée musicale pleine de charme et de bonne humeur ! Au programme : de belles chansons françaises\, des voix qui s’accordent à merveille\, et un moment de partage chaleureux à vivre etre amis\, en famille ou entre voisins. \n🎶 Entrée libre – Venez nombreux profiter de cette soirée conviviale  \n👍😃🤩 On vous attend !
URL:https://fdfr84.foyersruraux.org/evenement/%f0%9f%8e%a4-demain-soir-a-robion-les-3-nanas-en-concert/
CATEGORIES:Concert
ATTACH;FMTTYPE=image/jpeg:https://fdfr84.foyersruraux.org/wp-content/uploads/sites/33/2025/10/571188190_3380978572041420_3015891552413753788_n.jpg
END:VEVENT
END:VCALENDAR