BEGIN:VCALENDAR
VERSION:2.0
PRODID:-//Fédération Départementale des Foyers Ruraux du Vaucluse - ECPv6.2.9//NONSGML v1.0//EN
CALSCALE:GREGORIAN
METHOD:PUBLISH
X-WR-CALNAME:Fédération Départementale des Foyers Ruraux du Vaucluse
X-ORIGINAL-URL:https://fdfr84.foyersruraux.org
X-WR-CALDESC:évènements pour Fédération Départementale des Foyers Ruraux du Vaucluse
REFRESH-INTERVAL;VALUE=DURATION:PT1H
X-Robots-Tag:noindex
X-PUBLISHED-TTL:PT1H
BEGIN:VTIMEZONE
TZID:Europe/Paris
BEGIN:DAYLIGHT
TZOFFSETFROM:+0100
TZOFFSETTO:+0200
TZNAME:CEST
DTSTART:20250330T010000
END:DAYLIGHT
BEGIN:STANDARD
TZOFFSETFROM:+0200
TZOFFSETTO:+0100
TZNAME:CET
DTSTART:20251026T010000
END:STANDARD
END:VTIMEZONE
BEGIN:VEVENT
DTSTART;TZID=Europe/Paris:20250607T140000
DTEND;TZID=Europe/Paris:20250607T163000
DTSTAMP:20260422T164813
CREATED:20250603T190018Z
LAST-MODIFIED:20250603T190018Z
UID:10000053-1749304800-1749313800@fdfr84.foyersruraux.org
SUMMARY:🎶 Un moment musical à partager : les élèves d’Arcad vous donne rendez-vous🎼
DESCRIPTION:Les élèves de la section musique d’Arcad vous invitent à leur petite représentation le samedi 7 juin 2025 de 14h à 16h30.\n\n\n\nRendez-vous à l’espace jeunes de Caderousse pour encourager les élèves de Lea Pisani\, Raphaël Paratore\, et FX Fournel.\n\n\n\nEn espérant vous voir nombreux et nombreuses pour encourager ces jeunes artistes.
URL:https://fdfr84.foyersruraux.org/evenement/%f0%9f%8e%b6-un-moment-musical-a-partager-les-eleves-darcad-vous-donne-rendez-vous%f0%9f%8e%bc/
CATEGORIES:Concert
ATTACH;FMTTYPE=image/jpeg:https://fdfr84.foyersruraux.org/wp-content/uploads/sites/33/2025/06/arcad.jpg
END:VEVENT
END:VCALENDAR