BEGIN:VCALENDAR
VERSION:2.0
PRODID:-//Fédération Départementale des Foyers Ruraux du Vaucluse - ECPv6.2.9//NONSGML v1.0//EN
CALSCALE:GREGORIAN
METHOD:PUBLISH
X-WR-CALNAME:Fédération Départementale des Foyers Ruraux du Vaucluse
X-ORIGINAL-URL:https://fdfr84.foyersruraux.org
X-WR-CALDESC:évènements pour Fédération Départementale des Foyers Ruraux du Vaucluse
REFRESH-INTERVAL;VALUE=DURATION:PT1H
X-Robots-Tag:noindex
X-PUBLISHED-TTL:PT1H
BEGIN:VTIMEZONE
TZID:Europe/Paris
BEGIN:DAYLIGHT
TZOFFSETFROM:+0100
TZOFFSETTO:+0200
TZNAME:CEST
DTSTART:20250330T010000
END:DAYLIGHT
BEGIN:STANDARD
TZOFFSETFROM:+0200
TZOFFSETTO:+0100
TZNAME:CET
DTSTART:20251026T010000
END:STANDARD
END:VTIMEZONE
BEGIN:VEVENT
DTSTART;TZID=Europe/Paris:20250524T170000
DTEND;TZID=Europe/Paris:20250524T200000
DTSTAMP:20260422T070254
CREATED:20250521T160124Z
LAST-MODIFIED:20250521T162014Z
UID:10000034-1748106000-1748116800@fdfr84.foyersruraux.org
SUMMARY:🔍 Démocratie en mutation : inventons l’avenir ensemble !
DESCRIPTION:Réinventer les bases de la démocratie : une réflexion collective \nNotre société évolue\, et avec elle\, les attentes citoyennes envers la démocratie. Comment adapter nos institutions aux enjeux contemporains ? Quelles nouvelles formes d’engagement et de participation peuvent redonner du sens à l’action démocratique ? \nNous vous invitons à une conférence-débat passionnante où experts\, citoyens et acteurs engagés échangeront sur les défis et les opportunités d’une démocratie renouvelée. \nRetrouvez le foyer rural de Ménerbes à la bibliothèque municipale le samedi 24 mai à 17h.
URL:https://fdfr84.foyersruraux.org/evenement/%f0%9f%94%8d-democratie-en-mutation-inventons-lavenir-ensemble/
CATEGORIES:Conférence
ATTACH;FMTTYPE=image/jpeg:https://fdfr84.foyersruraux.org/wp-content/uploads/sites/33/2025/05/menerbe.jpg
END:VEVENT
END:VCALENDAR