BEGIN:VCALENDAR
VERSION:2.0
PRODID:-//Fédération Départementale des Foyers Ruraux du Vaucluse - ECPv6.2.9//NONSGML v1.0//EN
CALSCALE:GREGORIAN
METHOD:PUBLISH
X-WR-CALNAME:Fédération Départementale des Foyers Ruraux du Vaucluse
X-ORIGINAL-URL:https://fdfr84.foyersruraux.org
X-WR-CALDESC:évènements pour Fédération Départementale des Foyers Ruraux du Vaucluse
REFRESH-INTERVAL;VALUE=DURATION:PT1H
X-Robots-Tag:noindex
X-PUBLISHED-TTL:PT1H
BEGIN:VTIMEZONE
TZID:Europe/Paris
BEGIN:DAYLIGHT
TZOFFSETFROM:+0100
TZOFFSETTO:+0200
TZNAME:CEST
DTSTART:20250330T010000
END:DAYLIGHT
BEGIN:STANDARD
TZOFFSETFROM:+0200
TZOFFSETTO:+0100
TZNAME:CET
DTSTART:20251026T010000
END:STANDARD
END:VTIMEZONE
BEGIN:VEVENT
DTSTART;TZID=Europe/Paris:20251128T190000
DTEND;TZID=Europe/Paris:20251128T230000
DTSTAMP:20260421T211411
CREATED:20251118T111153Z
LAST-MODIFIED:20251118T111153Z
UID:10000150-1764356400-1764370800@fdfr84.foyersruraux.org
SUMMARY:🌟 Conférence-débat : La loi d’attraction – Comment obtenir ce que l’on veut
DESCRIPTION:Le Foyer Rural de Robion vous invite à une soirée exceptionnelle autour d’un thème inspirant : la loi d’attraction et ses applications concrètes dans notre quotidien\, ou comment “le pouvoir de l’intention permet d’obtenir ce que l’on veut” \nCette conférence-débat sera animée par Didier Lacourt\, coach thérapeute\, qui partagera son expertise et proposera des pistes pour mieux comprendre comment nos pensées et nos intentions influencent notre vie. \n\n📅 Vendredi 28 novembre 2025 \n🕖 19h00 \n📍 Salle de L’Eden – Robion\n\n👉 Entrée libre – et pour celles et ceux qui ne peuvent pas se déplacer\, la rencontre sera également retransmise en direct sur Facebook. \n🍽️ La soirée se poursuivra dans la convivialité avec un repas auberge espagnole : chacun apporte un plat à partager\, pour prolonger les échanges dans une ambiance chaleureuse. \n✨ Une belle occasion de réfléchir\, échanger et partager autour d’un sujet passionnant…
URL:https://fdfr84.foyersruraux.org/evenement/%f0%9f%8c%9f-conference-debat-la-loi-dattraction-comment-obtenir-ce-que-lon-veut/
CATEGORIES:Conférence
ATTACH;FMTTYPE=image/jpeg:https://fdfr84.foyersruraux.org/wp-content/uploads/sites/33/2025/11/584452457_1349525080172390_6328295487890424563_n.jpg
END:VEVENT
END:VCALENDAR