BEGIN:VCALENDAR
VERSION:2.0
PRODID:-//Fédération Départementale des Foyers Ruraux du Vaucluse - ECPv6.2.9//NONSGML v1.0//EN
CALSCALE:GREGORIAN
METHOD:PUBLISH
X-WR-CALNAME:Fédération Départementale des Foyers Ruraux du Vaucluse
X-ORIGINAL-URL:https://fdfr84.foyersruraux.org
X-WR-CALDESC:évènements pour Fédération Départementale des Foyers Ruraux du Vaucluse
REFRESH-INTERVAL;VALUE=DURATION:PT1H
X-Robots-Tag:noindex
X-PUBLISHED-TTL:PT1H
BEGIN:VTIMEZONE
TZID:Europe/Paris
BEGIN:DAYLIGHT
TZOFFSETFROM:+0100
TZOFFSETTO:+0200
TZNAME:CEST
DTSTART:20250330T010000
END:DAYLIGHT
BEGIN:STANDARD
TZOFFSETFROM:+0200
TZOFFSETTO:+0100
TZNAME:CET
DTSTART:20251026T010000
END:STANDARD
END:VTIMEZONE
BEGIN:VEVENT
DTSTART;TZID=Europe/Paris:20251219T190000
DTEND;TZID=Europe/Paris:20251219T220000
DTSTAMP:20260421T194141
CREATED:20251210T103331Z
LAST-MODIFIED:20251210T103331Z
UID:10000167-1766170800-1766181600@fdfr84.foyersruraux.org
SUMMARY:📽 Projection du 2ème documentaire de la Télévision local à Viens
DESCRIPTION:📽Le Foyer Rural de Viens\, en partenariat avec les films du Ravelin / Pays d’Apt en Vidéo\, a le plaisir de vous inviter à un rendez-vous exceptionnel : \n\n🎬 Vendredi 19 décembre 2025\n📍 Salle des Fêtes de Viens \n🕕 À partir de 19h\n\n👉 Projection du 2ème documentaire réalisé dans le cadre de la Télévision Locale Viensoise\, un projet ouvert à tous et ancré dans la vie du village.
URL:https://fdfr84.foyersruraux.org/evenement/%f0%9f%93%bd-projection-du-2eme-documentaire-de-la-television-local-a-viens/
CATEGORIES:Conférence
ATTACH;FMTTYPE=image/jpeg:https://fdfr84.foyersruraux.org/wp-content/uploads/sites/33/2025/12/598643068_25811262408477852_4863479425282177610_n.jpg
END:VEVENT
END:VCALENDAR