BEGIN:VCALENDAR
VERSION:2.0
PRODID:-//Fédération Départementale des Foyers Ruraux du Vaucluse - ECPv6.2.9//NONSGML v1.0//EN
CALSCALE:GREGORIAN
METHOD:PUBLISH
X-ORIGINAL-URL:https://fdfr84.foyersruraux.org
X-WR-CALDESC:évènements pour Fédération Départementale des Foyers Ruraux du Vaucluse
REFRESH-INTERVAL;VALUE=DURATION:PT1H
X-Robots-Tag:noindex
X-PUBLISHED-TTL:PT1H
BEGIN:VTIMEZONE
TZID:Europe/Paris
BEGIN:DAYLIGHT
TZOFFSETFROM:+0100
TZOFFSETTO:+0200
TZNAME:CEST
DTSTART:20250330T010000
END:DAYLIGHT
BEGIN:STANDARD
TZOFFSETFROM:+0200
TZOFFSETTO:+0100
TZNAME:CET
DTSTART:20251026T010000
END:STANDARD
END:VTIMEZONE
BEGIN:VEVENT
DTSTART;TZID=Europe/Paris:20250927T140000
DTEND;TZID=Europe/Paris:20250927T180000
DTSTAMP:20260421T232050
CREATED:20250917T102647Z
LAST-MODIFIED:20250917T102647Z
UID:10000099-1758981600-1758996000@fdfr84.foyersruraux.org
SUMMARY:Après-midi jeux en famille à Caderousse - 1ère édition
DESCRIPTION:Le centre de loisirs “Les Cabanes de Caderousse” vous attend pour une après-midi spéciale familles qui se tiendra le samedi 27 septembre à La salle Pierre Cuer de Caderousse\, de 14h à 18h. \n\nAu programme :\n\n\n– 14h à 16h Jeux en famille \n\n\n– 16h à 17h Goûter et boissons disponibles sur place \n\n\n– 17h à 18h Spectacle familial plein de rires et d’émotions \n\n\n\nParticipation :\n\n\n5 € par enfant\n\n\nGratuit pour les adultes\n\n\nPaiement : sur place en espèces uniquement \n\n\nSur préinscription conseillée\n\nPour nous permettre d’organiser au mieux l’événement\, merci de nous confirmer votre présence avant le 18 septembre en remplissant le formulaire ci-dessous.\n\n\nCi- dessous le lien pour le formulaire de préinscription.\n\n\nhttps://docs.google.com/…/1FAIpQLSfnOkjLtHB…/viewform…
URL:https://fdfr84.foyersruraux.org/evenement/apres-midi-jeux-en-famille-a-caderousse-1ere-edition/
CATEGORIES:En famille ...
ATTACH;FMTTYPE=image/jpeg:https://fdfr84.foyersruraux.org/wp-content/uploads/sites/33/2025/09/531873749_764163652684138_2379363160761469239_n.jpg
END:VEVENT
END:VCALENDAR