BEGIN:VCALENDAR
VERSION:2.0
PRODID:-//Fédération Départementale des Foyers Ruraux du Vaucluse - ECPv6.2.9//NONSGML v1.0//EN
CALSCALE:GREGORIAN
METHOD:PUBLISH
X-WR-CALNAME:Fédération Départementale des Foyers Ruraux du Vaucluse
X-ORIGINAL-URL:https://fdfr84.foyersruraux.org
X-WR-CALDESC:évènements pour Fédération Départementale des Foyers Ruraux du Vaucluse
REFRESH-INTERVAL;VALUE=DURATION:PT1H
X-Robots-Tag:noindex
X-PUBLISHED-TTL:PT1H
BEGIN:VTIMEZONE
TZID:Europe/Paris
BEGIN:DAYLIGHT
TZOFFSETFROM:+0100
TZOFFSETTO:+0200
TZNAME:CEST
DTSTART:20250330T010000
END:DAYLIGHT
BEGIN:STANDARD
TZOFFSETFROM:+0200
TZOFFSETTO:+0100
TZNAME:CET
DTSTART:20251026T010000
END:STANDARD
END:VTIMEZONE
BEGIN:VEVENT
DTSTART;TZID=Europe/Paris:20251018T090000
DTEND;TZID=Europe/Paris:20251018T170000
DTSTAMP:20260421T213601
CREATED:20250915T080850Z
LAST-MODIFIED:20250915T080850Z
UID:10000097-1760778000-1760806800@fdfr84.foyersruraux.org
SUMMARY:Journée parentalité à Caderousse
DESCRIPTION:L’association ArCaD est heureuse de vous présenter sa journée parents/enfants.\n\n\n\nRendez-vous le samedi 18 Octobre de 9h à 17h à l’espace jeunes de Caderousse.\n\n\n\nDurant toute la journée\, vous pourrez assister à des ateliers animés par des professionnels avec vos enfants : Activités culinaire\, créative\, scientifique et même sportive\, il y en aura pour tous les goûts.\n\n\n\nPensez à vous inscrire avant la samedi 11 octobre 2025.\n\n\nInfos et réservation au 07.83.60.80.47 ou par mail : contact@arcad-caderousse.com
URL:https://fdfr84.foyersruraux.org/evenement/journee-parentalite-a-caderousse/
CATEGORIES:En famille ...
ATTACH;FMTTYPE=image/jpeg:https://fdfr84.foyersruraux.org/wp-content/uploads/sites/33/2025/09/547372309_25031279633145433_4541082628421356085_n.jpg
END:VEVENT
BEGIN:VEVENT
DTSTART;TZID=Europe/Paris:20251018T100000
DTEND;TZID=Europe/Paris:20251018T123000
DTSTAMP:20260421T213601
CREATED:20251002T071436Z
LAST-MODIFIED:20251002T071436Z
UID:10000114-1760781600-1760790600@fdfr84.foyersruraux.org
SUMMARY:Halloween party à Mérindol
DESCRIPTION:
URL:https://fdfr84.foyersruraux.org/evenement/halloween-party-a-merindol/
CATEGORIES:En famille ...
ATTACH;FMTTYPE=image/jpeg:https://fdfr84.foyersruraux.org/wp-content/uploads/sites/33/2025/10/557619544_794070499879719_6955463236483547741_n.jpg
END:VEVENT
END:VCALENDAR