BEGIN:VCALENDAR
VERSION:2.0
PRODID:-//Fédération Départementale des Foyers Ruraux du Vaucluse - ECPv6.2.9//NONSGML v1.0//EN
CALSCALE:GREGORIAN
METHOD:PUBLISH
X-WR-CALNAME:Fédération Départementale des Foyers Ruraux du Vaucluse
X-ORIGINAL-URL:https://fdfr84.foyersruraux.org
X-WR-CALDESC:évènements pour Fédération Départementale des Foyers Ruraux du Vaucluse
REFRESH-INTERVAL;VALUE=DURATION:PT1H
X-Robots-Tag:noindex
X-PUBLISHED-TTL:PT1H
BEGIN:VTIMEZONE
TZID:Europe/Paris
BEGIN:DAYLIGHT
TZOFFSETFROM:+0100
TZOFFSETTO:+0200
TZNAME:CEST
DTSTART:20250330T010000
END:DAYLIGHT
BEGIN:STANDARD
TZOFFSETFROM:+0200
TZOFFSETTO:+0100
TZNAME:CET
DTSTART:20251026T010000
END:STANDARD
END:VTIMEZONE
BEGIN:VEVENT
DTSTART;TZID=Europe/Paris:20251101T150000
DTEND;TZID=Europe/Paris:20251101T180000
DTSTAMP:20260421T200551
CREATED:20251022T111453Z
LAST-MODIFIED:20251027T104511Z
UID:10000132-1762009200-1762020000@fdfr84.foyersruraux.org
SUMMARY:🎃👻 Soirée Halloween à Saignon
DESCRIPTION:Le 1er novembre 2025\, préparez-vous à frissonner… et à enquêter ! 🕵️‍♀️🕵️‍♂️  \n📍 Dès 15h\, le village se transforme en Cluedo géant : suspects\, indices\, mystères… saurez-vous résoudre l’affaire ? \n🍰 Et pour les gourmands : concours du gâteau le plus effrayant ! Ramenez votre création terrifiante pour le goûter… et tentez de remporter le prix du dessert le plus monstrueux 🎂💀 \n🎭 Déguisements bienvenus – Ambiance garantie – Petits et grands attendus ! \n📣 Rendez-vous le samedi 1er novembre à partir de 15h dans les rues de Saignon !
URL:https://fdfr84.foyersruraux.org/evenement/soiree-halloween-a-saignon/
CATEGORIES:En famille ...
ATTACH;FMTTYPE=image/jpeg:https://fdfr84.foyersruraux.org/wp-content/uploads/sites/33/2025/10/565776752_1242577851245825_7837504426441843332_n.jpg
END:VEVENT
END:VCALENDAR