BEGIN:VCALENDAR
VERSION:2.0
PRODID:-//Fédération Départementale des Foyers Ruraux du Vaucluse - ECPv6.2.9//NONSGML v1.0//EN
CALSCALE:GREGORIAN
METHOD:PUBLISH
X-ORIGINAL-URL:https://fdfr84.foyersruraux.org
X-WR-CALDESC:évènements pour Fédération Départementale des Foyers Ruraux du Vaucluse
REFRESH-INTERVAL;VALUE=DURATION:PT1H
X-Robots-Tag:noindex
X-PUBLISHED-TTL:PT1H
BEGIN:VTIMEZONE
TZID:Europe/Paris
BEGIN:DAYLIGHT
TZOFFSETFROM:+0100
TZOFFSETTO:+0200
TZNAME:CEST
DTSTART:20250330T010000
END:DAYLIGHT
BEGIN:STANDARD
TZOFFSETFROM:+0200
TZOFFSETTO:+0100
TZNAME:CET
DTSTART:20251026T010000
END:STANDARD
END:VTIMEZONE
BEGIN:VEVENT
DTSTART;TZID=Europe/Paris:20251123T090000
DTEND;TZID=Europe/Paris:20251123T160000
DTSTAMP:20260421T200657
CREATED:20251008T124047Z
LAST-MODIFIED:20251008T124047Z
UID:10000118-1763888400-1763913600@fdfr84.foyersruraux.org
SUMMARY:Vide grenier spécial Noël à Séguret
DESCRIPTION:Inscrivez-vous ! Vide-Grenier “spécial noël” : jouets et cadeaux culturels pour ADULTES et ENFANTS\n\n\n\nDe la cave au grenier et jusque dans nos placards\, nous avons tous et toutes des BD\, des jeux de société\, des vinyles\, des jouets et plein d’autres pépites en bon état qui dorment depuis longtemps.\n\n\nPourquoi ne pas leur donner une seconde vie ?\n\n\n\nVous ferez des heureuses\, des heureux et un geste pour la planète. Réservez dès maintenant votre dimanche 23 novembre 2025 pour participer au Vide Grenier “SPÉCIAL NOËL : Jouets et cadeaux culturels pour enfants et adultes”\n\n\n\nPour vous inscrire : lefoyer.lesagitesdulocal@gmail.com
URL:https://fdfr84.foyersruraux.org/evenement/vide-grenier-special-noel-a-seguret/
CATEGORIES:En famille ...
ATTACH;FMTTYPE=image/jpeg:https://fdfr84.foyersruraux.org/wp-content/uploads/sites/33/2025/10/559536370_1129267635980036_1622956385009504406_n.jpg
END:VEVENT
END:VCALENDAR