BEGIN:VCALENDAR
VERSION:2.0
PRODID:-//Fédération Départementale des Foyers Ruraux du Vaucluse - ECPv6.2.9//NONSGML v1.0//EN
CALSCALE:GREGORIAN
METHOD:PUBLISH
X-WR-CALNAME:Fédération Départementale des Foyers Ruraux du Vaucluse
X-ORIGINAL-URL:https://fdfr84.foyersruraux.org
X-WR-CALDESC:évènements pour Fédération Départementale des Foyers Ruraux du Vaucluse
REFRESH-INTERVAL;VALUE=DURATION:PT1H
X-Robots-Tag:noindex
X-PUBLISHED-TTL:PT1H
BEGIN:VTIMEZONE
TZID:Europe/Paris
BEGIN:DAYLIGHT
TZOFFSETFROM:+0100
TZOFFSETTO:+0200
TZNAME:CEST
DTSTART:20250330T010000
END:DAYLIGHT
BEGIN:STANDARD
TZOFFSETFROM:+0200
TZOFFSETTO:+0100
TZNAME:CET
DTSTART:20251026T010000
END:STANDARD
END:VTIMEZONE
BEGIN:VEVENT
DTSTART;VALUE=DATE:20251025
DTEND;VALUE=DATE:20251027
DTSTAMP:20260422T043647
CREATED:20251027T105729Z
LAST-MODIFIED:20251027T105729Z
UID:10000136-1761350400-1761523199@fdfr84.foyersruraux.org
SUMMARY:♻️ Collecte des déchets verts – Ce week-end dans le Sud Luberon ! 🌿
DESCRIPTION:📅 Environnement | Collecte des déchets verts les 25 et 26 octobre 2025\,\n\nDes bennes sont mises à disposition pour vous débarrasser de vos déchets végétaux en toute simplicité.\n\n\n\n📍La collecte commence ce week-end. Des bennes sont à votre disposition :\n\n\n\n à Ansouis\n à La Bastide des Jourdans\n à La Motte d’Aigues\n à Villelaure\n\n🧹 Branches\, feuilles\, tailles de haies… c’est le moment de faire place nette dans vos jardins.
URL:https://fdfr84.foyersruraux.org/evenement/%e2%99%bb%ef%b8%8f-collecte-des-dechets-verts-ce-week-end-dans-le-sud-luberon-%f0%9f%8c%bf/
CATEGORIES:Et si on prenait soin de la planète !
ATTACH;FMTTYPE=image/jpeg:https://fdfr84.foyersruraux.org/wp-content/uploads/sites/33/2025/10/559937507_1153978513533249_8877269201561747594_n.jpg
END:VEVENT
BEGIN:VEVENT
DTSTART;TZID=Europe/Paris:20251025T140000
DTEND;TZID=Europe/Paris:20251025T190000
DTSTAMP:20260422T043647
CREATED:20251022T111253Z
LAST-MODIFIED:20251022T111253Z
UID:10000131-1761400800-1761418800@fdfr84.foyersruraux.org
SUMMARY:Atelier réparation à Weldom Orange
DESCRIPTION:samedi 25 octobre\, grand atelier de réparation avec le Cad Lab de Caderousse et en partenariat avec Weldom Orange ! \n\n\n\n L’objectif reste le même :\n\n\n Réparer plutôt que jeter ! \n\n\n\nLe Cad Lab vous aidera à remettre en état :\n Vos ordinateurs (matériel & logiciel)\n Votre petit électroménager (aspirateur\, grille-pain\, machine à coudre…)\n Vos petits objets en tout genre\n\n\n Un doute sur la panne ou l’objet ? Contactez-nous\, nous vous dirons si c’est réparable \n\n\n\n Sur inscription uniquement\n Réparation et entretien des ordinateurs sur réservation\n\n\n Inscription par SMS au 06 17 10 50 71\n ou en message privé (Facebook ou Instagram)\n Merci de préciser l’objet et la panne pour que nous puissions anticiper votre réparation !\n\n\n\n Atelier animé par : Gilles (électronique)\, Jean-Yves et Sébastien (informatique)\, aidés de Thierry et Richard
URL:https://fdfr84.foyersruraux.org/evenement/atelier-reparation-a-weldom-orange/
CATEGORIES:Et si on prenait soin de la planète !
ATTACH;FMTTYPE=image/jpeg:https://fdfr84.foyersruraux.org/wp-content/uploads/sites/33/2025/10/564644648_713493905126259_7761296979215367546_n.jpg
END:VEVENT
END:VCALENDAR