BEGIN:VCALENDAR
VERSION:2.0
PRODID:-//Fédération Départementale des Foyers Ruraux du Vaucluse - ECPv6.2.9//NONSGML v1.0//EN
CALSCALE:GREGORIAN
METHOD:PUBLISH
X-ORIGINAL-URL:https://fdfr84.foyersruraux.org
X-WR-CALDESC:évènements pour Fédération Départementale des Foyers Ruraux du Vaucluse
REFRESH-INTERVAL;VALUE=DURATION:PT1H
X-Robots-Tag:noindex
X-PUBLISHED-TTL:PT1H
BEGIN:VTIMEZONE
TZID:Europe/Paris
BEGIN:DAYLIGHT
TZOFFSETFROM:+0100
TZOFFSETTO:+0200
TZNAME:CEST
DTSTART:20250330T010000
END:DAYLIGHT
BEGIN:STANDARD
TZOFFSETFROM:+0200
TZOFFSETTO:+0100
TZNAME:CET
DTSTART:20251026T010000
END:STANDARD
END:VTIMEZONE
BEGIN:VEVENT
DTSTART;TZID=Europe/Paris:20250905T093000
DTEND;TZID=Europe/Paris:20250905T163000
DTSTAMP:20260422T073543
CREATED:20250730T093502Z
LAST-MODIFIED:20250730T093502Z
UID:10000076-1757064600-1757089800@fdfr84.foyersruraux.org
SUMMARY:📚 Deux formations pour booster la gestion associative – RDV avec la FDFR84 enSeptembre 2025
DESCRIPTION:La FDFRE84 propose une journée de formations dédiées à la maîtrise des outils numériques au service des associations\, avec deux formations complémentaires : \n🌅 Matin : Venez découvrir Gestanet\, un logiciel associatif complet pour gérer vos adhérents\, vos activités et votre communication en toute simplicité. Cette session vous permettra de prendre en main les fonctionnalités clés et de gagner en efficacité au quotidien. \n🌇 Après-midi : L’après-midi sera consacré à Basicompta\, la plateforme de comptabilité intuitive dédiée aux associations. Suivi des dépenses\, édition des documents comptables\, gestion des budgets : vous repartirez avec les bases solides pour tenir une comptabilité claire et sereine. \n👥 Public : membres d’associations\, bénévoles\, responsables de la gestion 📍 Lieu : L’Isle sur la Sorgue 📅 Date : le 5 septembre 2025 📝 Inscriptions recommandées – Places limitées
URL:https://fdfr84.foyersruraux.org/evenement/%f0%9f%93%9a-deux-formations-pour-booster-la-gestion-associative-rdv-avec-la-fdfr84-enseptembre-2025/
CATEGORIES:Formation
ATTACH;FMTTYPE=image/jpeg:https://fdfr84.foyersruraux.org/wp-content/uploads/sites/33/2025/07/521833656_2803074683414702_7919282356678591467_n.jpg
END:VEVENT
BEGIN:VEVENT
DTSTART;TZID=Europe/Paris:20250917T140000
DTEND;TZID=Europe/Paris:20250917T160000
DTSTAMP:20260422T073543
CREATED:20250908T081851Z
LAST-MODIFIED:20250908T082339Z
UID:10000091-1758117600-1758124800@fdfr84.foyersruraux.org
SUMMARY:Stage de secourisme à Mormoiron
DESCRIPTION:Le Foyer Rural de Mormoiron organise avec l’ANIMS des sessions gratuites : les gestes qui sauvent à la ruche à Mormoiron !!! \nRDV pour :\n\nles adultes le 17 septembre 2025 de 14h à 16h\nles enfants à partir de 10 ans le 29 octobre 2025 de 14h à 16h\n\n sur inscription
URL:https://fdfr84.foyersruraux.org/evenement/24030/
CATEGORIES:Formation
ATTACH;FMTTYPE=image/jpeg:https://fdfr84.foyersruraux.org/wp-content/uploads/sites/33/2025/09/543181642_1402994331834203_4214285762927197331_n.jpg
END:VEVENT
END:VCALENDAR